BEGIN:VCALENDAR
VERSION:2.0
PRODID:-//Events | FID-Recht//NONSGML Events//EN
CALSCALE:GREGORIAN
X-ORIGINAL-URL:https://events.intrecht.de/termine/
X-WR-CALDESC:Events | FID-Recht - Events
BEGIN:VEVENT
UID:20200603T1418Z-1591193923.3362-EO-587-1@172.16.200.141
STATUS:CONFIRMED
DTSTAMP:20260422T185818Z
CREATED:20240214T105800Z
LAST-MODIFIED:20240214T105800Z
DTSTART;VALUE=DATE:20240620
DTEND;VALUE=DATE:20240621
SUMMARY: The Lyceum Project: AI ethics with Aristotle (Conference)
DESCRIPTION: 20.6.2024 / Athen (Einreichungsfrist: 30.4.2024) https://www.o
 xford-aiethics.ox.ac.uk/lyceum-project-ai-ethics-aristotle
X-ALT-DESC;FMTTYPE=text/html: <p>20.6.2024 / Athen <strong>(Einreichungsfri
 st: 30.4.2024)</strong></p><p><a href="https://www.oxford-aiethics.ox.ac.uk
 /lyceum-project-ai-ethics-aristotle">https://www.oxford-aiethics.ox.ac.uk/l
 yceum-project-ai-ethics-aristotle</a></p><p>[av_button label='iCal-Export' 
 link='./feed/eo-events' link_target='' size='small' position='center' label
 _display='' title_attr='' icon_select='yes' icon='ue85b' font='entypo-fonte
 llo' color='custom' custom_bg='#b5123e' custom_font='#ffffff' av_uid='' id=
 '' custom_class='' admin_preview_bg='']</p>
CATEGORIES:Recht interdisziplinär
LOCATION:Ausland
GEO:0.000000;0.000000
ORGANIZER;CN="ViFa-Recht":MAILTO:vifa-recht@sbb.spk-berlin.de
URL;VALUE=URI:https://events.intrecht.de/termine/termin/the-lyceum-project-
 ai-ethics-with-aristotle-conference/
END:VEVENT
BEGIN:VTIMEZONE
TZID:Europe/Berlin
BEGIN:DAYLIGHT
TZOFFSETFROM:+0100
TZOFFSETTO:+0200
DTSTART:20240331T010000
TZNAME:CEST
END:DAYLIGHT
END:VTIMEZONE
END:VCALENDAR
