BEGIN:VCALENDAR
VERSION:2.0
PRODID:-//Events | FID-Recht//NONSGML Events//EN
CALSCALE:GREGORIAN
X-ORIGINAL-URL:https://events.intrecht.de/termine/
X-WR-CALDESC:Events | FID-Recht - Events
BEGIN:VEVENT
UID:20200603T1418Z-1591193923.3362-EO-587-1@172.16.200.141
STATUS:CONFIRMED
DTSTAMP:20260425T214400Z
CREATED:20231025T103021Z
LAST-MODIFIED:20231025T103021Z
DTSTART;VALUE=DATE:20240319
DTEND;VALUE=DATE:20240321
SUMMARY: The Lisbon Treaty 15 years on – Achievements and Challenges (Confe
 rence)
DESCRIPTION: 19.-20.3.2024 / Budapest (Einreichungsfrist: 1.12.2023) https:
 //www.uni-erfurt.de/fileadmin/fakultaet/staatswissenschaften/Rechtswissensc
 haften/Achenbach/flyer_The_Lisbon_Treaty_15_years_on_-_Achievements_and_Cha
 llenges.pdf
X-ALT-DESC;FMTTYPE=text/html: <p>19.-20.3.2024 / Budapest <strong>(Einreich
 ungsfrist: 1.12.2023)</strong></p><p><a href="https://www.uni-erfurt.de/fil
 eadmin/fakultaet/staatswissenschaften/Rechtswissenschaften/Achenbach/flyer_
 The_Lisbon_Treaty_15_years_on_-_Achievements_and_Challenges.pdf">https://ww
 w.uni-erfurt.de/fileadmin/fakultaet/staatswissenschaften/Rechtswissenschaft
 en/Achenbach/flyer_The_Lisbon_Treaty_15_years_on_-_Achievements_and_Challen
 ges.pdf</a></p><p>[av_button label='iCal-Export' link='./feed/eo-events' li
 nk_target='' size='small' position='center' label_display='' title_attr='' 
 icon_select='yes' icon='ue85b' font='entypo-fontello' color='custom' custom
 _bg='#b5123e' custom_font='#ffffff' av_uid='' id='' custom_class='' admin_p
 review_bg='']</p>
CATEGORIES:Europäisches / Internationales Recht
LOCATION:Ausland
GEO:0.000000;0.000000
ORGANIZER;CN="ViFa-Recht":MAILTO:vifa-recht@sbb.spk-berlin.de
URL;VALUE=URI:https://events.intrecht.de/termine/termin/the-lisbon-treaty-1
 5-years-on-achievements-and-challenges-conference/
END:VEVENT
BEGIN:VTIMEZONE
TZID:Europe/Berlin
BEGIN:STANDARD
TZOFFSETFROM:+0200
TZOFFSETTO:+0100
DTSTART:20231029T010000
TZNAME:CET
END:STANDARD
END:VTIMEZONE
END:VCALENDAR
