BEGIN:VCALENDAR
VERSION:2.0
PRODID:-//Events | FID-Recht//NONSGML Events//EN
CALSCALE:GREGORIAN
X-ORIGINAL-URL:https://events.intrecht.de/termine/
X-WR-CALDESC:Events | FID-Recht - Events
BEGIN:VEVENT
UID:20220501T1543Z-1651419783.7275-EO-6782-1@172.16.200.141
STATUS:CONFIRMED
DTSTAMP:20260426T052837Z
CREATED:20220429T113016Z
LAST-MODIFIED:20220429T113023Z
DTSTART;TZID=Europe/Berlin:20220510T183000
DTEND;TZID=Europe/Berlin:20220510T200000
SUMMARY: The Limits and Legitimacy of Referendums (with Richard Albert and 
 Richard Stacey) (Online-Buchdiskussion)
DESCRIPTION: 10.5.2022\, Online Meeting-Registrierung – Zoom  
X-ALT-DESC;FMTTYPE=text/html: <p>10.5.2022\, Online</p><p><a href="https://
 uni-hamburg.zoom.us/meeting/register/u5EscuCoqTsjHdI6MFIpY2IMYruRS5dsCUio">
 Meeting-Registrierung - Zoom</a></p><p> </p><p>[av_button label='iCal-Expor
 t' link='./feed/eo-events' link_target='' size='small' position='center' la
 bel_display='' title_attr='' icon_select='yes' icon='ue85b' font='entypo-fo
 ntello' color='custom' custom_bg='#b5123e' custom_font='#ffffff' av_uid='' 
 id='' custom_class='' admin_preview_bg='']</p>
CATEGORIES:Öffentliches Recht,Recht interdisziplinär
LOCATION:Online
GEO:0.000000;0.000000
ORGANIZER;CN="ViFa-Recht":MAILTO:vifa-recht@sbb.spk-berlin.de
URL;VALUE=URI:https://events.intrecht.de/termine/termin/the-limits-and-legi
 timacy-of-referendums-with-richard-albert-and-richard-stacey-online-buchdis
 kussion/
END:VEVENT
BEGIN:VTIMEZONE
TZID:Europe/Berlin
BEGIN:DAYLIGHT
TZOFFSETFROM:+0100
TZOFFSETTO:+0200
DTSTART:20220327T010000
TZNAME:CEST
END:DAYLIGHT
END:VTIMEZONE
END:VCALENDAR
