BEGIN:VCALENDAR
VERSION:2.0
PRODID:-//Events | FID-Recht//NONSGML Events//EN
CALSCALE:GREGORIAN
X-ORIGINAL-URL:https://events.intrecht.de/termine/
X-WR-CALDESC:Events | FID-Recht - Events
BEGIN:VEVENT
UID:20200602T0945Z-1591091115.9737-EO-599-1@172.16.200.141
STATUS:CONFIRMED
DTSTAMP:20260423T070826Z
CREATED:20260318T125211Z
LAST-MODIFIED:20260318T125211Z
DTSTART;VALUE=DATE:20260324
DTEND;VALUE=DATE:20260325
SUMMARY: The Limited Regulatory Impact of ESG Information Duties (Virtual L
 ecture)
DESCRIPTION: 24.3.2026 / Online https://events.mpipriv.de/b?p=Coporate_Resp
 onsibility_ESG_With_Alexander_Hellgardt
X-ALT-DESC;FMTTYPE=text/html: <p>24.3.2026 / Online</p><p><a href="https://
 events.mpipriv.de/b?p=Coporate_Responsibility_ESG_With_Alexander_Hellgardt"
 >https://events.mpipriv.de/b?p=Coporate_Responsibility_ESG_With_Alexander_H
 ellgardt</a></p><p>[av_button label='iCal-Export' link='./feed/eo-events' l
 ink_target='' size='small' position='center' label_display='' title_attr=''
  icon_select='yes' icon='ue85b' font='entypo-fontello' color='custom' custo
 m_bg='#b5123e' custom_font='#ffffff' av_uid='' id='' custom_class='' admin_
 preview_bg='']</p>
CATEGORIES:Zivilrecht
LOCATION:Online
GEO:0.000000;0.000000
ORGANIZER;CN="ViFa-Recht":MAILTO:vifa-recht@sbb.spk-berlin.de
URL;VALUE=URI:https://events.intrecht.de/termine/termin/the-limited-regulat
 ory-impact-of-esg-information-duties-virtual-lecture/
END:VEVENT
BEGIN:VTIMEZONE
TZID:Europe/Berlin
BEGIN:STANDARD
TZOFFSETFROM:+0200
TZOFFSETTO:+0100
DTSTART:20251026T010000
TZNAME:CET
END:STANDARD
END:VTIMEZONE
END:VCALENDAR
