BEGIN:VCALENDAR
VERSION:2.0
PRODID:-//Events | FID-Recht//NONSGML Events//EN
CALSCALE:GREGORIAN
X-ORIGINAL-URL:https://events.intrecht.de/termine/
X-WR-CALDESC:Events | FID-Recht - Events
BEGIN:VEVENT
UID:20200603T1418Z-1591193923.3362-EO-587-1@172.16.200.141
STATUS:CONFIRMED
DTSTAMP:20260422T211822Z
CREATED:20250117T145203Z
LAST-MODIFIED:20250117T145203Z
DTSTART;VALUE=DATE:20250204
DTEND;VALUE=DATE:20250205
SUMMARY: The Legal Status of Children Born to ISIL Fighters under Iraqi and
  Yazidi Family Laws (Hybrid Event)
DESCRIPTION: 4.2.2025 / Online und Hamburg https://events.mpipriv.de/b?p=ar
 ab-and-islamic-law-to-go-with-ayad-kokha
X-ALT-DESC;FMTTYPE=text/html: <p>4.2.2025 / Online und Hamburg</p><p><a hre
 f="https://events.mpipriv.de/b?p=arab-and-islamic-law-to-go-with-ayad-kokha
 ">https://events.mpipriv.de/b?p=arab-and-islamic-law-to-go-with-ayad-kokha<
 /a></p><p>[av_button label='iCal-Export' link='./feed/eo-events' link_targe
 t='' size='small' position='center' label_display='' title_attr='' icon_sel
 ect='yes' icon='ue85b' font='entypo-fontello' color='custom' custom_bg='#b5
 123e' custom_font='#ffffff' av_uid='' id='' custom_class='' admin_preview_b
 g='']</p>
CATEGORIES:Recht interdisziplinär
LOCATION:Hybrid
GEO:0.000000;0.000000
ORGANIZER;CN="ViFa-Recht":MAILTO:vifa-recht@sbb.spk-berlin.de
URL;VALUE=URI:https://events.intrecht.de/termine/termin/the-legal-status-of
 -children-born-to-isil-fighters-under-iraqi-and-yazidi-family-laws-hybrid-e
 vent/
END:VEVENT
BEGIN:VTIMEZONE
TZID:Europe/Berlin
BEGIN:STANDARD
TZOFFSETFROM:+0200
TZOFFSETTO:+0100
DTSTART:20241027T010000
TZNAME:CET
END:STANDARD
END:VTIMEZONE
END:VCALENDAR
