BEGIN:VCALENDAR
VERSION:2.0
PRODID:-//Events | FID-Recht//NONSGML Events//EN
CALSCALE:GREGORIAN
X-ORIGINAL-URL:https://events.intrecht.de/termine/
X-WR-CALDESC:Events | FID-Recht - Events
BEGIN:VEVENT
UID:20200603T1418Z-1591193923.3362-EO-587-1@172.16.200.141
STATUS:CONFIRMED
DTSTAMP:20260423T004047Z
CREATED:20240613T093703Z
LAST-MODIFIED:20240613T093703Z
DTSTART;VALUE=DATE:20241017
DTEND;VALUE=DATE:20241019
SUMMARY: The Law and The Amazon: Challenges for a Sustainable Future (Confe
 rence / Forum Latin America Initiative from the Max Planck Law Network)
DESCRIPTION: 17.-18.10.2024 / Freiburg im Breisgau https://law.mpg.de/event
 /the-law-and-the-amazon-challenges-for-a-sustainable-future/
X-ALT-DESC;FMTTYPE=text/html: <p>17.-18.10.2024 / Freiburg im Breisgau</p><
 p><a href="https://law.mpg.de/event/the-law-and-the-amazon-challenges-for-a
 -sustainable-future/">https://law.mpg.de/event/the-law-and-the-amazon-chall
 enges-for-a-sustainable-future/</a></p><p>[av_button label='iCal-Export' li
 nk='./feed/eo-events' link_target='' size='small' position='center' label_d
 isplay='' title_attr='' icon_select='yes' icon='ue85b' font='entypo-fontell
 o' color='custom' custom_bg='#b5123e' custom_font='#ffffff' av_uid='' id=''
  custom_class='' admin_preview_bg='']</p>
CATEGORIES:Recht interdisziplinär
LOCATION:Inland
GEO:0.000000;0.000000
ORGANIZER;CN="ViFa-Recht":MAILTO:vifa-recht@sbb.spk-berlin.de
URL;VALUE=URI:https://events.intrecht.de/termine/termin/the-law-and-the-ama
 zon-challenges-for-a-sustainable-future-conference-forum-latin-america-init
 iative-from-the-max-planck-law-network/
END:VEVENT
BEGIN:VTIMEZONE
TZID:Europe/Berlin
BEGIN:DAYLIGHT
TZOFFSETFROM:+0100
TZOFFSETTO:+0200
DTSTART:20240331T010000
TZNAME:CEST
END:DAYLIGHT
END:VTIMEZONE
END:VCALENDAR
