BEGIN:VCALENDAR
VERSION:2.0
PRODID:-//Events | FID-Recht//NONSGML Events//EN
CALSCALE:GREGORIAN
X-ORIGINAL-URL:https://events.intrecht.de/termine/
X-WR-CALDESC:Events | FID-Recht - Events
BEGIN:VEVENT
UID:20200603T1418Z-1591193923.3362-EO-587-1@172.16.200.141
STATUS:CONFIRMED
DTSTAMP:20260425T183117Z
CREATED:20230622T085647Z
LAST-MODIFIED:20230622T085647Z
DTSTART;VALUE=DATE:20230708
DTEND;VALUE=DATE:20230709
SUMMARY: The Japan Chapter of the Asian Society of International Law / The 
 14th Annual Conference: Towards a multi-dimensional enhancement of a sustai
 nable business environment in Asia
DESCRIPTION: 8.7.2023 / Online und Yokohama (Anmeldefrist: 6.7.2023) https:
 //asiansil-jp.org/english/20230428/
X-ALT-DESC;FMTTYPE=text/html: <p>8.7.2023 / Online und Yokohama <strong>(An
 meldefrist: 6.7.2023)</strong></p><p><a href="https://asiansil-jp.org/engli
 sh/20230428/">https://asiansil-jp.org/english/20230428/</a></p><p>[av_butto
 n label='iCal-Export' link='./feed/eo-events' link_target='' size='small' p
 osition='center' label_display='' title_attr='' icon_select='yes' icon='ue8
 5b' font='entypo-fontello' color='custom' custom_bg='#b5123e' custom_font='
 #ffffff' av_uid='' id='' custom_class='' admin_preview_bg='']</p>
CATEGORIES:Europäisches / Internationales Recht
LOCATION:Online
GEO:0.000000;0.000000
ORGANIZER;CN="ViFa-Recht":MAILTO:vifa-recht@sbb.spk-berlin.de
URL;VALUE=URI:https://events.intrecht.de/termine/termin/the-japan-chapter-o
 f-the-asian-society-of-international-law-the-14th-annual-conference-towards
 -a-multi-dimensional-enhancement-of-a-sustainable-business-environment-in-a
 sia/
END:VEVENT
BEGIN:VTIMEZONE
TZID:Europe/Berlin
BEGIN:DAYLIGHT
TZOFFSETFROM:+0100
TZOFFSETTO:+0200
DTSTART:20230326T010000
TZNAME:CEST
END:DAYLIGHT
END:VTIMEZONE
END:VCALENDAR
