BEGIN:VCALENDAR
VERSION:2.0
PRODID:-//Events | FID-Recht//NONSGML Events//EN
CALSCALE:GREGORIAN
X-ORIGINAL-URL:https://events.intrecht.de/termine/
X-WR-CALDESC:Events | FID-Recht - Events
BEGIN:VEVENT
UID:20200603T1418Z-1591193923.3362-EO-587-1@172.16.200.141
STATUS:CONFIRMED
DTSTAMP:20260422T141703Z
CREATED:20240529T100240Z
LAST-MODIFIED:20240529T100240Z
DTSTART;VALUE=DATE:20240605
DTEND;VALUE=DATE:20240606
SUMMARY: The ITLOS Advisory Opinion on Climate Change and the Law of the Se
 a – A First Appraisal (Hybrid Event / Völkerrechtliche Tagesthemen)
DESCRIPTION: 5.6.2024 / Online und Kiel https://www.uni-kiel.de/de/jura/for
 schung/wsi/veranstaltungen/voelkerrechtliche-tagesthemen
X-ALT-DESC;FMTTYPE=text/html: <p>5.6.2024 / Online und Kiel</p><p><a href="
 https://www.uni-kiel.de/de/jura/forschung/wsi/veranstaltungen/voelkerrechtl
 iche-tagesthemen">https://www.uni-kiel.de/de/jura/forschung/wsi/veranstaltu
 ngen/voelkerrechtliche-tagesthemen</a></p><p>[av_button label='iCal-Export'
  link='./feed/eo-events' link_target='' size='small' position='center' labe
 l_display='' title_attr='' icon_select='yes' icon='ue85b' font='entypo-font
 ello' color='custom' custom_bg='#b5123e' custom_font='#ffffff' av_uid='' id
 ='' custom_class='' admin_preview_bg='']</p>
CATEGORIES:Europäisches / Internationales Recht
LOCATION:Hybrid
GEO:0.000000;0.000000
ORGANIZER;CN="ViFa-Recht":MAILTO:vifa-recht@sbb.spk-berlin.de
URL;VALUE=URI:https://events.intrecht.de/termine/termin/the-itlos-advisory-
 opinion-on-climate-change-and-the-law-of-the-sea-a-first-appraisal-hybrid-e
 vent-voelkerrechtliche-tagesthemen/
END:VEVENT
BEGIN:VTIMEZONE
TZID:Europe/Berlin
BEGIN:DAYLIGHT
TZOFFSETFROM:+0100
TZOFFSETTO:+0200
DTSTART:20240331T010000
TZNAME:CEST
END:DAYLIGHT
END:VTIMEZONE
END:VCALENDAR
