BEGIN:VCALENDAR
VERSION:2.0
PRODID:-//Events | FID-Recht//NONSGML Events//EN
CALSCALE:GREGORIAN
X-ORIGINAL-URL:https://events.intrecht.de/termine/
X-WR-CALDESC:Events | FID-Recht - Events
BEGIN:VEVENT
UID:20200603T1418Z-1591193923.3362-EO-587-1@172.16.200.141
STATUS:CONFIRMED
DTSTAMP:20260425T200408Z
CREATED:20231025T102210Z
LAST-MODIFIED:20231025T102210Z
DTSTART;VALUE=DATE:20231130
DTEND;VALUE=DATE:20231201
SUMMARY: The Italian Scholars and The Hague Academy of International Law – 
 A retrospective on the occasion of the Academy’s Centennial Anniversary (Co
 nference)
DESCRIPTION: 30.11.2023 / Mailand https://hagueacademy100.wordpress.com/
X-ALT-DESC;FMTTYPE=text/html: <p>30.11.2023 / Mailand</p><p><a href="https:
 //hagueacademy100.wordpress.com/">https://hagueacademy100.wordpress.com/</a
 ></p><p>[av_button label='iCal-Export' link='./feed/eo-events' link_target=
 '' size='small' position='center' label_display='' title_attr='' icon_selec
 t='yes' icon='ue85b' font='entypo-fontello' color='custom' custom_bg='#b512
 3e' custom_font='#ffffff' av_uid='' id='' custom_class='' admin_preview_bg=
 '']</p>
CATEGORIES:Europäisches / Internationales Recht
LOCATION:Ausland
GEO:0.000000;0.000000
ORGANIZER;CN="ViFa-Recht":MAILTO:vifa-recht@sbb.spk-berlin.de
URL;VALUE=URI:https://events.intrecht.de/termine/termin/the-italian-scholar
 s-and-the-hague-academy-of-international-law-a-retrospective-on-the-occasio
 n-of-the-academys-centennial-anniversary-conference/
END:VEVENT
BEGIN:VTIMEZONE
TZID:Europe/Berlin
BEGIN:STANDARD
TZOFFSETFROM:+0200
TZOFFSETTO:+0100
DTSTART:20231029T010000
TZNAME:CET
END:STANDARD
END:VTIMEZONE
END:VCALENDAR
