BEGIN:VCALENDAR
VERSION:2.0
PRODID:-//Events | FID-Recht//NONSGML Events//EN
CALSCALE:GREGORIAN
X-ORIGINAL-URL:https://events.intrecht.de/termine/
X-WR-CALDESC:Events | FID-Recht - Events
BEGIN:VEVENT
UID:20201217T0338Z-1608176316.0527-EO-2230-1@172.16.200.141
STATUS:CONFIRMED
DTSTAMP:20260419T163930Z
CREATED:20201211T180206Z
LAST-MODIFIED:20201211T180206Z
DTSTART;TZID=Europe/Berlin:20200902T143000
DTEND;TZID=Europe/Berlin:20200902T143000
SUMMARY: The invention of Custom and the School of Salamanca (Online-Kolloq
 uium)
DESCRIPTION: 2.9.2020\, Online https://www.rg.mpg.de/2290134/event-20-09-02
 -salamanca-colloquium.html
X-ALT-DESC;FMTTYPE=text/html: <p>2.9.2020\, Online</p><p><a href="https://w
 ww.rg.mpg.de/2290134/event-20-09-02-salamanca-colloquium.html">https://www.
 rg.mpg.de/2290134/event-20-09-02-salamanca-colloquium.html</a></p><p>[av_bu
 tton label='iCal-Export' link='./feed/eo-events' link_target='' size='small
 ' position='center' label_display='' title_attr='' icon_select='yes' icon='
 ue85b' font='entypo-fontello' color='custom' custom_bg='#b5123e' custom_fon
 t='#ffffff' av_uid='' id='' custom_class='' admin_preview_bg='']</p>
CATEGORIES:Europäisches / Internationales Recht,Recht interdisziplinär
LOCATION:Online
GEO:0.000000;0.000000
ORGANIZER;CN="ViFa-Recht":MAILTO:vifa-recht@sbb.spk-berlin.de
URL;VALUE=URI:https://events.intrecht.de/termine/termin/the-invention-of-cu
 stom-and-the-school-of-salamanca-online-kolloquium/
END:VEVENT
BEGIN:VTIMEZONE
TZID:Europe/Berlin
BEGIN:DAYLIGHT
TZOFFSETFROM:+0100
TZOFFSETTO:+0200
DTSTART:20200329T010000
TZNAME:CEST
END:DAYLIGHT
END:VTIMEZONE
END:VCALENDAR
