BEGIN:VCALENDAR
VERSION:2.0
PRODID:-//Events | FID-Recht//NONSGML Events//EN
CALSCALE:GREGORIAN
X-ORIGINAL-URL:https://events.intrecht.de/termine/
X-WR-CALDESC:Events | FID-Recht - Events
BEGIN:VEVENT
UID:20200603T1418Z-1591193923.3362-EO-587-1@172.16.200.141
STATUS:CONFIRMED
DTSTAMP:20260422T204626Z
CREATED:20240229T113541Z
LAST-MODIFIED:20240229T113541Z
DTSTART;VALUE=DATE:20240325
DTEND;VALUE=DATE:20240326
SUMMARY: The Interplay between International Criminal Tribunals and Courts 
 and Domestic Accountability (Online Roundtable / European Society of Intern
 ational Law’s Interest Group on International Criminal Justice)
DESCRIPTION: 25.3.2024 / Online https://esil-sedi.eu/ig-on-international-cr
 iminal-justice-online-roundtable-on-the-interplay-between-international-cri
 minal-tribunals-and-courts-and-domestic-accountability/
X-ALT-DESC;FMTTYPE=text/html: <p>25.3.2024 / Online</p><p><a href="https://
 esil-sedi.eu/ig-on-international-criminal-justice-online-roundtable-on-the-
 interplay-between-international-criminal-tribunals-and-courts-and-domestic-
 accountability/">https://esil-sedi.eu/ig-on-international-criminal-justice-
 online-roundtable-on-the-interplay-between-international-criminal-tribunals
 -and-courts-and-domestic-accountability/</a></p><p>[av_button label='iCal-E
 xport' link='./feed/eo-events' link_target='' size='small' position='center
 ' label_display='' title_attr='' icon_select='yes' icon='ue85b' font='entyp
 o-fontello' color='custom' custom_bg='#b5123e' custom_font='#ffffff' av_uid
 ='' id='' custom_class='' admin_preview_bg='']</p>
CATEGORIES:Europäisches / Internationales Recht
LOCATION:Online
GEO:0.000000;0.000000
ORGANIZER;CN="ViFa-Recht":MAILTO:vifa-recht@sbb.spk-berlin.de
URL;VALUE=URI:https://events.intrecht.de/termine/termin/the-interplay-betwe
 en-international-criminal-tribunals-and-courts-and-domestic-accountability-
 online-roundtable-european-society-of-international-laws-interest-group-on-
 international-criminal-jus/
END:VEVENT
BEGIN:VTIMEZONE
TZID:Europe/Berlin
BEGIN:STANDARD
TZOFFSETFROM:+0200
TZOFFSETTO:+0100
DTSTART:20231029T010000
TZNAME:CET
END:STANDARD
END:VTIMEZONE
END:VCALENDAR
