BEGIN:VCALENDAR
VERSION:2.0
PRODID:-//Events | FID-Recht//NONSGML Events//EN
CALSCALE:GREGORIAN
X-ORIGINAL-URL:https://events.intrecht.de/termine/
X-WR-CALDESC:Events | FID-Recht - Events
BEGIN:VEVENT
UID:20200603T1418Z-1591193923.3362-EO-587-1@172.16.200.141
STATUS:CONFIRMED
DTSTAMP:20260423T040908Z
CREATED:20250423T130711Z
LAST-MODIFIED:20250423T130711Z
DTSTART;VALUE=DATE:20250508
DTEND;VALUE=DATE:20250510
SUMMARY: The internationalisation of transport law since the Second Industr
 ial Revolution (Internationale Tagung)
DESCRIPTION: 8.-9.5.2025 / Regensburg https://www.uni-regensburg.de/rechtsw
 issenschaft/buergerliches-recht/loehnig/rechtshistorische-tagungen/index.ht
 ml
X-ALT-DESC;FMTTYPE=text/html: <p>8.-9.5.2025 / Regensburg</p><p><a href="ht
 tps://www.uni-regensburg.de/rechtswissenschaft/buergerliches-recht/loehnig/
 rechtshistorische-tagungen/index.html">https://www.uni-regensburg.de/rechts
 wissenschaft/buergerliches-recht/loehnig/rechtshistorische-tagungen/index.h
 tml</a></p><p>[av_button label='iCal-Export' link='./feed/eo-events' link_t
 arget='' size='small' position='center' label_display='' title_attr='' icon
 _select='yes' icon='ue85b' font='entypo-fontello' color='custom' custom_bg=
 '#b5123e' custom_font='#ffffff' av_uid='' id='' custom_class='' admin_previ
 ew_bg='']</p>
CATEGORIES:Recht interdisziplinär
LOCATION:Inland
GEO:0.000000;0.000000
ORGANIZER;CN="ViFa-Recht":MAILTO:vifa-recht@sbb.spk-berlin.de
URL;VALUE=URI:https://events.intrecht.de/termine/termin/the-internationalis
 ation-of-transport-law-since-the-second-industrial-revolution-international
 e-tagung/
END:VEVENT
BEGIN:VTIMEZONE
TZID:Europe/Berlin
BEGIN:DAYLIGHT
TZOFFSETFROM:+0100
TZOFFSETTO:+0200
DTSTART:20250330T010000
TZNAME:CEST
END:DAYLIGHT
END:VTIMEZONE
END:VCALENDAR
