BEGIN:VCALENDAR
VERSION:2.0
PRODID:-//Events | FID-Recht//NONSGML Events//EN
CALSCALE:GREGORIAN
X-ORIGINAL-URL:https://events.intrecht.de/termine/
X-WR-CALDESC:Events | FID-Recht - Events
BEGIN:VEVENT
UID:20200603T1418Z-1591193923.3362-EO-587-1@172.16.200.141
STATUS:CONFIRMED
DTSTAMP:20260422T192602Z
CREATED:20241104T141044Z
LAST-MODIFIED:20241104T141115Z
DTSTART;VALUE=DATE:20250908
DTEND;VALUE=DATE:20250910
SUMMARY: The International Court of Justice at 80 (Conference)
DESCRIPTION: 8.-9.9.2025 / Glasgow (Einreichungsfrist: 15.1.2025) https://g
 cils.org/call-for-papers-the-icj-at-80/
X-ALT-DESC;FMTTYPE=text/html: <p>8.-9.9.2025 / Glasgow <strong>(Einreichung
 sfrist: 15.1.2025)</strong></p><p><a href="https://gcils.org/call-for-paper
 s-the-icj-at-80/">https://gcils.org/call-for-papers-the-icj-at-80/</a></p><
 p>[av_button label='iCal-Export' link='./feed/eo-events' link_target='' siz
 e='small' position='center' label_display='' title_attr='' icon_select='yes
 ' icon='ue85b' font='entypo-fontello' color='custom' custom_bg='#b5123e' cu
 stom_font='#ffffff' av_uid='' id='' custom_class='' admin_preview_bg='']</p
 >
CATEGORIES:Europäisches / Internationales Recht
LOCATION:Ausland
GEO:0.000000;0.000000
ORGANIZER;CN="ViFa-Recht":MAILTO:vifa-recht@sbb.spk-berlin.de
URL;VALUE=URI:https://events.intrecht.de/termine/termin/the-international-c
 ourt-of-justice-at-80-conference/
END:VEVENT
BEGIN:VTIMEZONE
TZID:Europe/Berlin
BEGIN:DAYLIGHT
TZOFFSETFROM:+0100
TZOFFSETTO:+0200
DTSTART:20250330T010000
TZNAME:CEST
END:DAYLIGHT
END:VTIMEZONE
END:VCALENDAR
