BEGIN:VCALENDAR
VERSION:2.0
PRODID:-//Events | FID-Recht//NONSGML Events//EN
CALSCALE:GREGORIAN
X-ORIGINAL-URL:https://events.intrecht.de/termine/
X-WR-CALDESC:Events | FID-Recht - Events
BEGIN:VEVENT
UID:20201204T1122Z-1607080949.681-EO-2767-1@172.16.200.141
STATUS:CONFIRMED
DTSTAMP:20260426T005344Z
CREATED:20201202T160314Z
LAST-MODIFIED:20201202T160314Z
DTSTART;VALUE=DATE:20210621
DTEND;VALUE=DATE:20210623
SUMMARY: The Input and Output Legitimacy of International Court (PluriCourt
 s Annual Workshop) (Online-Workshop)
DESCRIPTION: 21.-22.6.2021\, Online (Frist für Einreichungen: 4.1.2021) htt
 ps://www.jus.uio.no/pluricourts/english/news-and-events/news/2020/political
 -and-legal-theory-of-international-courts.html    
X-ALT-DESC;FMTTYPE=text/html: <p>21.-22.6.2021\, Online (Frist für Einreich
 ungen: 4.1.2021)</p><p><a href="https://www.jus.uio.no/pluricourts/english/
 news-and-events/news/2020/political-and-legal-theory-of-international-court
 s.html">https://www.jus.uio.no/pluricourts/english/news-and-events/news/202
 0/political-and-legal-theory-of-international-courts.html</a></p><p> </p><p
 > </p><p>[av_button label='iCal-Export' link='./feed/eo-events' link_target
 ='' size='small' position='center' label_display='' title_attr='' icon_sele
 ct='yes' icon='ue85b' font='entypo-fontello' color='custom' custom_bg='#b51
 23e' custom_font='#ffffff' av_uid='' id='' custom_class='' admin_preview_bg
 ='']</p>
CATEGORIES:Europäisches / Internationales Recht
LOCATION:Online
GEO:0.000000;0.000000
ORGANIZER;CN="ViFa-Recht":MAILTO:vifa-recht@sbb.spk-berlin.de
URL;VALUE=URI:https://events.intrecht.de/termine/termin/the-input-and-outpu
 t-legitimacy-of-international-court-pluricourts-annual-workshop-online-work
 shop/
END:VEVENT
BEGIN:VTIMEZONE
TZID:Europe/Berlin
BEGIN:DAYLIGHT
TZOFFSETFROM:+0100
TZOFFSETTO:+0200
DTSTART:20210328T010000
TZNAME:CEST
END:DAYLIGHT
END:VTIMEZONE
END:VCALENDAR
