BEGIN:VCALENDAR
VERSION:2.0
PRODID:-//Events | FID-Recht//NONSGML Events//EN
CALSCALE:GREGORIAN
X-ORIGINAL-URL:https://events.intrecht.de/termine/
X-WR-CALDESC:Events | FID-Recht - Events
BEGIN:VEVENT
UID:20200601T2323Z-1591053816.2795-EO-579-1@172.16.200.141
STATUS:CONFIRMED
DTSTAMP:20260421T102718Z
CREATED:20200515T164838Z
LAST-MODIFIED:20200520T072700Z
DTSTART;VALUE=DATE:20200521
DTEND;VALUE=DATE:20200523
SUMMARY: The ICC’s contribution to the development and enforcement of inter
 national humanitarian law (Konferenz)
DESCRIPTION: VERSCHOBEN:  21.-22.5.2020\, Olmütz – NEUER TEMRIN WIRD IM JUN
 I BEKANNT GEGEBEN https://esil-sedi.eu/call-for-papers-esil-supported-confe
 rence-on-iccs-contribution-to-the-development-and-enforcement-of-internatio
 nal-humanitarian-law/  https://ihl.upol.cz/  
X-ALT-DESC;FMTTYPE=text/html: <p><b><span style="font-size: 11.0pt\; font-f
 amily: 'Calibri'\,sans-serif\; color: #1f497d\;">VERSCHOBEN: </span></b></p
 ><p><span style="font-size: 11.0pt\; font-family: 'Calibri'\,sans-serif\;">
 21.-22.5.2020\, Olmütz – NEUER TEMRIN WIRD IM JUNI BEKANNT GEGEBEN</span></
 p><p><span style="font-size: 11.0pt\; font-family: 'Calibri'\,sans-serif\;"
 ><a href="https://esil-sedi.eu/call-for-papers-esil-supported-conference-on
 -iccs-contribution-to-the-development-and-enforcement-of-international-huma
 nitarian-law/" target="_blank" rel="noopener noreferrer">https://esil-sedi.
 eu/call-for-papers-esil-supported-conference-on-iccs-contribution-to-the-de
 velopment-and-enforcement-of-international-humanitarian-law/</a></span></p>
 <p><span style="font-size: 11.0pt\; font-family: 'Calibri'\,sans-serif\;"> 
 <a href="https://ihl.upol.cz/">https://ihl.upol.cz/</a></span></p><p> </p><
 p>[av_button label='iCal-Export' link='./feed/eo-events' link_target='' siz
 e='small' position='center' label_display='' title_attr='' icon_select='yes
 ' icon='ue85b' font='entypo-fontello' color='custom' custom_bg='#b5123e' cu
 stom_font='#ffffff' av_uid='' id='' custom_class='' admin_preview_bg='']</p
 >
CATEGORIES:Europäisches / Internationales Recht,Strafrecht
LOCATION:Ausland
GEO:0.000000;0.000000
ORGANIZER;CN="ViFa-Recht":MAILTO:vifa-recht@sbb.spk-berlin.de
URL;VALUE=URI:https://events.intrecht.de/termine/termin/the-iccs-contributi
 on-to-the-development-and-enforcement-of-international-humanitarian-law-kon
 ferenz/
END:VEVENT
BEGIN:VTIMEZONE
TZID:Europe/Berlin
BEGIN:DAYLIGHT
TZOFFSETFROM:+0100
TZOFFSETTO:+0200
DTSTART:20200329T010000
TZNAME:CEST
END:DAYLIGHT
END:VTIMEZONE
END:VCALENDAR
