BEGIN:VCALENDAR
VERSION:2.0
PRODID:-//Events | FID-Recht//NONSGML Events//EN
CALSCALE:GREGORIAN
X-ORIGINAL-URL:https://events.intrecht.de/termine/
X-WR-CALDESC:Events | FID-Recht - Events
BEGIN:VEVENT
UID:20200603T1418Z-1591193923.3362-EO-587-1@172.16.200.141
STATUS:CONFIRMED
DTSTAMP:20260422T175254Z
CREATED:20231212T172106Z
LAST-MODIFIED:20231212T172106Z
DTSTART;VALUE=DATE:20240613
DTEND;VALUE=DATE:20240615
SUMMARY: The ICC as Justice Hub\, Pragmatic Complementarity and Domestic IC
 L Enforcement (Conference)
DESCRIPTION: 13.-14.6.2024 / Tilburg (Einreichungsfrist: 15.1.2024) https:/
 /drive.google.com/file/d/1h_Xl9GrrIpCD5TnWI46SCv19HxqN5M0O/view
X-ALT-DESC;FMTTYPE=text/html: <p>13.-14.6.2024 / Tilburg <strong>(Einreichu
 ngsfrist: 15.1.2024)</strong></p><p><a href="https://drive.google.com/file/
 d/1h_Xl9GrrIpCD5TnWI46SCv19HxqN5M0O/view">https://drive.google.com/file/d/1
 h_Xl9GrrIpCD5TnWI46SCv19HxqN5M0O/view</a></p><p>[av_button label='iCal-Expo
 rt' link='./feed/eo-events' link_target='' size='small' position='center' l
 abel_display='' title_attr='' icon_select='yes' icon='ue85b' font='entypo-f
 ontello' color='custom' custom_bg='#b5123e' custom_font='#ffffff' av_uid=''
  id='' custom_class='' admin_preview_bg='']</p>
CATEGORIES:Strafrecht
LOCATION:Ausland
GEO:0.000000;0.000000
ORGANIZER;CN="ViFa-Recht":MAILTO:vifa-recht@sbb.spk-berlin.de
URL;VALUE=URI:https://events.intrecht.de/termine/termin/the-icc-as-justice-
 hub-pragmatic-complementarity-and-domestic-icl-enforcement-conference/
END:VEVENT
BEGIN:VTIMEZONE
TZID:Europe/Berlin
BEGIN:DAYLIGHT
TZOFFSETFROM:+0100
TZOFFSETTO:+0200
DTSTART:20240331T010000
TZNAME:CEST
END:DAYLIGHT
END:VTIMEZONE
END:VCALENDAR
