BEGIN:VCALENDAR
VERSION:2.0
PRODID:-//Events | FID-Recht//NONSGML Events//EN
CALSCALE:GREGORIAN
X-ORIGINAL-URL:https://events.intrecht.de/termine/
X-WR-CALDESC:Events | FID-Recht - Events
BEGIN:VEVENT
UID:20200603T1418Z-1591193923.3362-EO-587-1@172.16.200.141
STATUS:CONFIRMED
DTSTAMP:20260422T052437Z
CREATED:20240111T132219Z
LAST-MODIFIED:20240111T132219Z
DTSTART;VALUE=DATE:20240118
DTEND;VALUE=DATE:20240119
SUMMARY: The Humanization of War Reparations: Combatant Deaths and Compensa
 tion in Unlawful Wars (Discussion)
DESCRIPTION: 18.1.2024 / Online und Oxford https://www.law.ox.ac.uk/content
 /event/humanization-war-reparations-combatant-deaths-and-compensation-unlaw
 ful-wars
X-ALT-DESC;FMTTYPE=text/html: <p>18.1.2024 / Online und Oxford</p><p><a hre
 f="https://www.law.ox.ac.uk/content/event/humanization-war-reparations-comb
 atant-deaths-and-compensation-unlawful-wars">https://www.law.ox.ac.uk/conte
 nt/event/humanization-war-reparations-combatant-deaths-and-compensation-unl
 awful-wars</a></p><p>[av_button label='iCal-Export' link='./feed/eo-events'
  link_target='' size='small' position='center' label_display='' title_attr=
 '' icon_select='yes' icon='ue85b' font='entypo-fontello' color='custom' cus
 tom_bg='#b5123e' custom_font='#ffffff' av_uid='' id='' custom_class='' admi
 n_preview_bg='']</p>
CATEGORIES:Europäisches / Internationales Recht
LOCATION:Hybrid
GEO:0.000000;0.000000
ORGANIZER;CN="ViFa-Recht":MAILTO:vifa-recht@sbb.spk-berlin.de
URL;VALUE=URI:https://events.intrecht.de/termine/termin/the-humanization-of
 -war-reparations-combatant-deaths-and-compensation-in-unlawful-wars-discuss
 ion/
END:VEVENT
BEGIN:VTIMEZONE
TZID:Europe/Berlin
BEGIN:STANDARD
TZOFFSETFROM:+0200
TZOFFSETTO:+0100
DTSTART:20231029T010000
TZNAME:CET
END:STANDARD
END:VTIMEZONE
END:VCALENDAR
