BEGIN:VCALENDAR
VERSION:2.0
PRODID:-//Events | FID-Recht//NONSGML Events//EN
CALSCALE:GREGORIAN
X-ORIGINAL-URL:https://events.intrecht.de/termine/
X-WR-CALDESC:Events | FID-Recht - Events
BEGIN:VEVENT
UID:20211007T0611Z-1633587104.4561-EO-4684-1@172.16.200.141
STATUS:CONFIRMED
DTSTAMP:20260421T102720Z
CREATED:20211005T161344Z
LAST-MODIFIED:20211005T161344Z
DTSTART;VALUE=DATE:20211012
DTEND;VALUE=DATE:20211013
SUMMARY: The Historical Turn in International Economic Law (Online-Paneldis
 kussion)
DESCRIPTION: 12.10.2021\, Online https://webappsx.ugent.be/eventManager/eve
 nts/historicalturnielroundtable  
X-ALT-DESC;FMTTYPE=text/html: <p>12.10.2021\, Online</p><p><a href="https:/
 /webappsx.ugent.be/eventManager/events/historicalturnielroundtable">https:/
 /webappsx.ugent.be/eventManager/events/historicalturnielroundtable</a></p><
 p> </p><p>[av_button label='iCal-Export' link='./feed/eo-events' link_targe
 t='' size='small' position='center' label_display='' title_attr='' icon_sel
 ect='yes' icon='ue85b' font='entypo-fontello' color='custom' custom_bg='#b5
 123e' custom_font='#ffffff' av_uid='' id='' custom_class='' admin_preview_b
 g='']</p>
CATEGORIES:Europäisches / Internationales Recht,Recht interdisziplinär
LOCATION:Online
GEO:0.000000;0.000000
ORGANIZER;CN="ViFa-Recht":MAILTO:vifa-recht@sbb.spk-berlin.de
URL;VALUE=URI:https://events.intrecht.de/termine/termin/the-historical-turn
 -in-international-economic-law-online-paneldiskussion/
END:VEVENT
BEGIN:VTIMEZONE
TZID:Europe/Berlin
BEGIN:DAYLIGHT
TZOFFSETFROM:+0100
TZOFFSETTO:+0200
DTSTART:20210328T010000
TZNAME:CEST
END:DAYLIGHT
END:VTIMEZONE
END:VCALENDAR
