BEGIN:VCALENDAR
VERSION:2.0
PRODID:-//Events | FID-Recht//NONSGML Events//EN
CALSCALE:GREGORIAN
X-ORIGINAL-URL:https://events.intrecht.de/termine/
X-WR-CALDESC:Events | FID-Recht - Events
BEGIN:VEVENT
UID:20211117T2043Z-1637181828.5856-EO-5149-1@172.16.200.141
STATUS:CONFIRMED
DTSTAMP:20260423T055653Z
CREATED:20211116T231737Z
LAST-MODIFIED:20211116T231737Z
DTSTART;VALUE=DATE:20211119
DTEND;VALUE=DATE:20211120
SUMMARY: The Health-Environment Nexus and the Systemic Implications of Envi
 ronmental Crimes (Online-Tagung)
DESCRIPTION: 19.11.2021\, Online ESIL Webinar | The Health-Environment Nexu
 s and the Systemic Implications of Environmental Crimes – European Society 
 of International Law | Société européenne de droit international (esil-sedi
 .eu)  
X-ALT-DESC;FMTTYPE=text/html: <p>19.11.2021\, Online</p><p><a href="https:/
 /esil-sedi.eu/esil-webinar-the-health-environment-nexus-and-the-systemic-im
 plications-of-environmental-crimes/">ESIL Webinar | The Health-Environment 
 Nexus and the Systemic Implications of Environmental Crimes – European Soci
 ety of International Law | Société européenne de droit international (esil-
 sedi.eu)</a></p><p> </p><p>[av_button label='iCal-Export' link='./feed/eo-e
 vents' link_target='' size='small' position='center' label_display='' title
 _attr='' icon_select='yes' icon='ue85b' font='entypo-fontello' color='custo
 m' custom_bg='#b5123e' custom_font='#ffffff' av_uid='' id='' custom_class='
 ' admin_preview_bg='']</p>
CATEGORIES:Europäisches / Internationales Recht,Öffentliches Recht,Recht interdisziplinär,Strafrecht
LOCATION:Online
GEO:0.000000;0.000000
ORGANIZER;CN="ViFa-Recht":MAILTO:vifa-recht@sbb.spk-berlin.de
URL;VALUE=URI:https://events.intrecht.de/termine/termin/the-health-environm
 ent-nexus-and-the-systemic-implications-of-environmental-crimes-online-tagu
 ng/
END:VEVENT
BEGIN:VTIMEZONE
TZID:Europe/Berlin
BEGIN:STANDARD
TZOFFSETFROM:+0200
TZOFFSETTO:+0100
DTSTART:20211031T010000
TZNAME:CET
END:STANDARD
END:VTIMEZONE
END:VCALENDAR
