BEGIN:VCALENDAR
VERSION:2.0
PRODID:-//Events | FID-Recht//NONSGML Events//EN
CALSCALE:GREGORIAN
X-ORIGINAL-URL:https://events.intrecht.de/termine/
X-WR-CALDESC:Events | FID-Recht - Events
BEGIN:VEVENT
UID:20201016T1127Z-1602847651.4447-EO-1697-1@172.16.200.141
STATUS:CONFIRMED
DTSTAMP:20260421T102819Z
CREATED:20201012T145745Z
LAST-MODIFIED:20201012T145745Z
DTSTART;VALUE=DATE:20201105
DTEND;VALUE=DATE:20201105
SUMMARY: The Harvard Model as Domestic and International Export: A Transloc
 al Movement of Elite Legal Integration (with Jedidiah Kroncke) (Online-Work
 shop)
DESCRIPTION: 5.11.2020\, Online https://en-law.tau.ac.il/Law_History_Worksh
 op_20-21_3    
X-ALT-DESC;FMTTYPE=text/html: <p>5.11.2020\, Online</p><p><a href="https://
 en-law.tau.ac.il/Law_History_Workshop_20-21_3">https://en-law.tau.ac.il/Law
 _History_Workshop_20-21_3</a></p><p> </p><p> </p><p>[av_button label='iCal-
 Export' link='./feed/eo-events' link_target='' size='small' position='cente
 r' label_display='' title_attr='' icon_select='yes' icon='ue85b' font='enty
 po-fontello' color='custom' custom_bg='#b5123e' custom_font='#ffffff' av_ui
 d='' id='' custom_class='' admin_preview_bg='']</p>
CATEGORIES:Recht interdisziplinär
LOCATION:Online
GEO:0.000000;0.000000
ORGANIZER;CN="ViFa-Recht":MAILTO:vifa-recht@sbb.spk-berlin.de
URL;VALUE=URI:https://events.intrecht.de/termine/termin/the-harvard-model-a
 s-domestic-and-international-export-a-translocal-movement-of-elite-legal-in
 tegration-with-jedidiah-kroncke-online-workshop/
END:VEVENT
BEGIN:VTIMEZONE
TZID:Europe/Berlin
BEGIN:STANDARD
TZOFFSETFROM:+0200
TZOFFSETTO:+0100
DTSTART:20201025T010000
TZNAME:CET
END:STANDARD
END:VTIMEZONE
END:VCALENDAR
