BEGIN:VCALENDAR
VERSION:2.0
PRODID:-//Events | FID-Recht//NONSGML Events//EN
CALSCALE:GREGORIAN
X-ORIGINAL-URL:https://events.intrecht.de/termine/
X-WR-CALDESC:Events | FID-Recht - Events
BEGIN:VEVENT
UID:20200603T1418Z-1591193923.3362-EO-587-1@172.16.200.141
STATUS:CONFIRMED
DTSTAMP:20260425T202135Z
CREATED:20230628T093659Z
LAST-MODIFIED:20230628T093820Z
DTSTART;VALUE=DATE:20240819
DTEND;VALUE=DATE:20240907
SUMMARY: The Hague Academy of International Law 2024: International Institu
 tions in the Face of International Crises
DESCRIPTION: 19.8.-6.9.2024 / Den Haag (Anmeldefrist: 1.9.2023) https://www
 .hagueacademy.nl/wp-content/uploads/PROGRAMME-CENTRE-2024_V8.pdf
X-ALT-DESC;FMTTYPE=text/html: <p>19.8.-6.9.2024 / Den Haag <strong>(Anmelde
 frist: 1.9.2023)</strong></p><p><a href="https://www.hagueacademy.nl/wp-con
 tent/uploads/PROGRAMME-CENTRE-2024_V8.pdf">https://www.hagueacademy.nl/wp-c
 ontent/uploads/PROGRAMME-CENTRE-2024_V8.pdf</a></p><p>[av_button label='iCa
 l-Export' link='./feed/eo-events' link_target='' size='small' position='cen
 ter' label_display='' title_attr='' icon_select='yes' icon='ue85b' font='en
 typo-fontello' color='custom' custom_bg='#b5123e' custom_font='#ffffff' av_
 uid='' id='' custom_class='' admin_preview_bg='']</p>
CATEGORIES:Europäisches / Internationales Recht
LOCATION:Ausland
GEO:0.000000;0.000000
ORGANIZER;CN="ViFa-Recht":MAILTO:vifa-recht@sbb.spk-berlin.de
URL;VALUE=URI:https://events.intrecht.de/termine/termin/the-hague-academy-o
 f-international-law-2024-international-institutions-in-the-face-of-internat
 ional-crises/
END:VEVENT
BEGIN:VTIMEZONE
TZID:Europe/Berlin
BEGIN:DAYLIGHT
TZOFFSETFROM:+0100
TZOFFSETTO:+0200
DTSTART:20240331T010000
TZNAME:CEST
END:DAYLIGHT
END:VTIMEZONE
END:VCALENDAR
