BEGIN:VCALENDAR
VERSION:2.0
PRODID:-//Events | FID-Recht//NONSGML Events//EN
CALSCALE:GREGORIAN
X-ORIGINAL-URL:https://events.intrecht.de/termine/
X-WR-CALDESC:Events | FID-Recht - Events
BEGIN:VEVENT
UID:20220610T0453Z-1654836782.4999-EO-4022-1@172.16.200.151
STATUS:CONFIRMED
DTSTAMP:20260425T230657Z
CREATED:20220608T084825Z
LAST-MODIFIED:20220608T084834Z
DTSTART;VALUE=DATE:20220609
DTEND;VALUE=DATE:20220610
SUMMARY: The Global Qur’an. Transnational dimensions of Qur’an translation 
 (with Johanna Pink) (Online-Vortrag)
DESCRIPTION: 9.6.2022\, Online Afternoon Talk on Islamic Law: Johanna Pink 
 (University of Freiburg) (mpipriv.de)  
X-ALT-DESC;FMTTYPE=text/html: <p>9.6.2022\, Online</p><p><a href="https://e
 vents.mpipriv.de/afternoon-talk-johanna-pink-09-06-2022">Afternoon Talk on 
 Islamic Law: Johanna Pink (University of Freiburg) (mpipriv.de)</a></p><p> 
 </p><p>[av_button label='iCal-Export' link='./feed/eo-events' link_target='
 ' size='small' position='center' label_display='' title_attr='' icon_select
 ='yes' icon='ue85b' font='entypo-fontello' color='custom' custom_bg='#b5123
 e' custom_font='#ffffff' av_uid='' id='' custom_class='' admin_preview_bg='
 ']</p>
CATEGORIES:Recht interdisziplinär,Zivilrecht
LOCATION:Online
GEO:0.000000;0.000000
ORGANIZER;CN="ViFa-Recht":MAILTO:vifa-recht@sbb.spk-berlin.de
URL;VALUE=URI:https://events.intrecht.de/termine/termin/the-global-quran-tr
 ansnational-dimensions-of-quran-translation-with-johanna-pink-online-vortra
 g/
END:VEVENT
BEGIN:VTIMEZONE
TZID:Europe/Berlin
BEGIN:DAYLIGHT
TZOFFSETFROM:+0100
TZOFFSETTO:+0200
DTSTART:20220327T010000
TZNAME:CEST
END:DAYLIGHT
END:VTIMEZONE
END:VCALENDAR
