BEGIN:VCALENDAR
VERSION:2.0
PRODID:-//Events | FID-Recht//NONSGML Events//EN
CALSCALE:GREGORIAN
X-ORIGINAL-URL:https://events.intrecht.de/termine/
X-WR-CALDESC:Events | FID-Recht - Events
BEGIN:VEVENT
UID:20200603T1418Z-1591193923.3362-EO-587-1@172.16.200.141
STATUS:CONFIRMED
DTSTAMP:20260425T164826Z
CREATED:20231021T151019Z
LAST-MODIFIED:20231021T151019Z
DTSTART;VALUE=DATE:20231025
DTEND;VALUE=DATE:20231026
SUMMARY: The German Federal Court of Justice’s (mis-) use of effet utile to
  override international law in Mainstream v. Germany: Shaking the foundatio
 ns of the ICSID Convention? (Vortrag / Völkerrechtliche Tagesthemen)
DESCRIPTION: 25.10.2023 / Online und Kiel https://www.wsi.uni-kiel.de/de/ve
 ranstaltungen/voelkerrechtliche-tagesthemen/voelkerrechtliche-tagesthemen-t
 he-german-federal-court-of-justice2019s-mis-use-of-effet-utile-to-override-
 international-law-in-mainstream-v-germany-shaking-the-foundations-of-the-ic
 sid-convention-with-tim-rauschning
X-ALT-DESC;FMTTYPE=text/html: <p>25.10.2023 / Online und Kiel</p><p><a href
 ="https://www.wsi.uni-kiel.de/de/veranstaltungen/voelkerrechtliche-tagesthe
 men/voelkerrechtliche-tagesthemen-the-german-federal-court-of-justice2019s-
 mis-use-of-effet-utile-to-override-international-law-in-mainstream-v-german
 y-shaking-the-foundations-of-the-icsid-convention-with-tim-rauschning">http
 s://www.wsi.uni-kiel.de/de/veranstaltungen/voelkerrechtliche-tagesthemen/vo
 elkerrechtliche-tagesthemen-the-german-federal-court-of-justice2019s-mis-us
 e-of-effet-utile-to-override-international-law-in-mainstream-v-germany-shak
 ing-the-foundations-of-the-icsid-convention-with-tim-rauschning</a></p><p>[
 av_button label='iCal-Export' link='./feed/eo-events' link_target='' size='
 small' position='center' label_display='' title_attr='' icon_select='yes' i
 con='ue85b' font='entypo-fontello' color='custom' custom_bg='#b5123e' custo
 m_font='#ffffff' av_uid='' id='' custom_class='' admin_preview_bg='']</p>
CATEGORIES:Europäisches / Internationales Recht
LOCATION:Online
GEO:0.000000;0.000000
ORGANIZER;CN="ViFa-Recht":MAILTO:vifa-recht@sbb.spk-berlin.de
URL;VALUE=URI:https://events.intrecht.de/termine/termin/the-german-federal-
 court-of-justices-mis-use-of-effet-utile-to-override-international-law-in-m
 ainstream-v-germany-shaking-the-foundations-of-the-icsid-convention-vortrag
 -voelkerrecht/
END:VEVENT
BEGIN:VTIMEZONE
TZID:Europe/Berlin
BEGIN:DAYLIGHT
TZOFFSETFROM:+0100
TZOFFSETTO:+0200
DTSTART:20230326T010000
TZNAME:CEST
END:DAYLIGHT
END:VTIMEZONE
END:VCALENDAR
