BEGIN:VCALENDAR
VERSION:2.0
PRODID:-//Events | FID-Recht//NONSGML Events//EN
CALSCALE:GREGORIAN
X-ORIGINAL-URL:https://events.intrecht.de/termine/
X-WR-CALDESC:Events | FID-Recht - Events
BEGIN:VEVENT
UID:20200603T1418Z-1591193923.3362-EO-587-1@172.16.200.141
STATUS:CONFIRMED
DTSTAMP:20260422T213138Z
CREATED:20240726T124306Z
LAST-MODIFIED:20240726T124306Z
DTSTART;VALUE=DATE:20241217
DTEND;VALUE=DATE:20241219
SUMMARY: The Gaza War and International Law: Norms and Institutions (Annual
  Minerva Conference on International Humanitarian Law)
DESCRIPTION: 17.-18.12.2024 / Jerusalem (Einreichungsfrist: 20.8.2024) http
 s://en.minervacenter.huji.ac.il/sites/default/files/minervacenteren/files/c
 all_for_papers_-_ihl.pdf
X-ALT-DESC;FMTTYPE=text/html: <p>17.-18.12.2024 / Jerusalem <strong>(Einrei
 chungsfrist: 20.8.2024)</strong></p><p><a href="https://en.minervacenter.hu
 ji.ac.il/sites/default/files/minervacenteren/files/call_for_papers_-_ihl.pd
 f">https://en.minervacenter.huji.ac.il/sites/default/files/minervacenteren/
 files/call_for_papers_-_ihl.pdf</a></p><p>[av_button label='iCal-Export' li
 nk='./feed/eo-events' link_target='' size='small' position='center' label_d
 isplay='' title_attr='' icon_select='yes' icon='ue85b' font='entypo-fontell
 o' color='custom' custom_bg='#b5123e' custom_font='#ffffff' av_uid='' id=''
  custom_class='' admin_preview_bg='']</p>
CATEGORIES:Europäisches / Internationales Recht
LOCATION:Ausland
GEO:0.000000;0.000000
ORGANIZER;CN="ViFa-Recht":MAILTO:vifa-recht@sbb.spk-berlin.de
URL;VALUE=URI:https://events.intrecht.de/termine/termin/the-gaza-war-and-in
 ternational-law-norms-and-institutions-annual-minerva-conference-on-interna
 tional-humanitarian-law/
END:VEVENT
BEGIN:VTIMEZONE
TZID:Europe/Berlin
BEGIN:STANDARD
TZOFFSETFROM:+0200
TZOFFSETTO:+0100
DTSTART:20241027T010000
TZNAME:CET
END:STANDARD
END:VTIMEZONE
END:VCALENDAR
