BEGIN:VCALENDAR
VERSION:2.0
PRODID:-//Events | FID-Recht//NONSGML Events//EN
CALSCALE:GREGORIAN
X-ORIGINAL-URL:https://events.intrecht.de/termine/
X-WR-CALDESC:Events | FID-Recht - Events
BEGIN:VEVENT
UID:20200602T0945Z-1591091115.9737-EO-599-1@172.16.200.141
STATUS:CONFIRMED
DTSTAMP:20260423T084758Z
CREATED:20260310T092721Z
LAST-MODIFIED:20260310T092721Z
DTSTART;VALUE=DATE:20260615
DTEND;VALUE=DATE:20260617
SUMMARY: The Future of the International Legal Order (Annual Postgraduate C
 onference in International Law and Human Rights)
DESCRIPTION: 15.-16.6.2026 / Liverpool (Einreichungsfrist: 22.3.2026) https
 ://www.liverpool.ac.uk/law/research/research-clusters/international-law-and
 -human-rights-unit/workshops-and-conferences/postgraduate-conference/
X-ALT-DESC;FMTTYPE=text/html: <p>15.-16.6.2026 / Liverpool <strong>(Einreic
 hungsfrist: 22.3.2026)</strong></p><p><a href="https://www.liverpool.ac.uk/
 law/research/research-clusters/international-law-and-human-rights-unit/work
 shops-and-conferences/postgraduate-conference/">https://www.liverpool.ac.uk
 /law/research/research-clusters/international-law-and-human-rights-unit/wor
 kshops-and-conferences/postgraduate-conference/</a></p><p>[av_button label=
 'iCal-Export' link='./feed/eo-events' link_target='' size='small' position=
 'center' label_display='' title_attr='' icon_select='yes' icon='ue85b' font
 ='entypo-fontello' color='custom' custom_bg='#b5123e' custom_font='#ffffff'
  av_uid='' id='' custom_class='' admin_preview_bg='']</p>
CATEGORIES:Europäisches / Internationales Recht
LOCATION:Ausland
GEO:0.000000;0.000000
ORGANIZER;CN="ViFa-Recht":MAILTO:vifa-recht@sbb.spk-berlin.de
URL;VALUE=URI:https://events.intrecht.de/termine/termin/the-future-of-the-i
 nternational-legal-order-annual-postgraduate-conference-in-international-la
 w-and-human-rights/
END:VEVENT
BEGIN:VTIMEZONE
TZID:Europe/Berlin
BEGIN:DAYLIGHT
TZOFFSETFROM:+0100
TZOFFSETTO:+0200
DTSTART:20260329T010000
TZNAME:CEST
END:DAYLIGHT
END:VTIMEZONE
END:VCALENDAR
