BEGIN:VCALENDAR
VERSION:2.0
PRODID:-//Events | FID-Recht//NONSGML Events//EN
CALSCALE:GREGORIAN
X-ORIGINAL-URL:https://events.intrecht.de/termine/
X-WR-CALDESC:Events | FID-Recht - Events
BEGIN:VEVENT
UID:20220908T2110Z-1662671439.2054-EO-5566-1@172.16.200.151
STATUS:CONFIRMED
DTSTAMP:20260421T102823Z
CREATED:20220907T103238Z
LAST-MODIFIED:20220907T103238Z
DTSTART;VALUE=DATE:20221021
DTEND;VALUE=DATE:20221021
SUMMARY: The Future of the Commercial Contract in Scholarship and Law Refor
 m (Tagung)
DESCRIPTION: 21.10.2022/Online https://www.legalscholars.ac.uk/event/confer
 ence-the-future-of-the-commercial-contract-in-scholarship-and-law-reform-5/
   
X-ALT-DESC;FMTTYPE=text/html: <p>21.10.2022/Online</p><p><a href="https://w
 ww.legalscholars.ac.uk/event/conference-the-future-of-the-commercial-contra
 ct-in-scholarship-and-law-reform-5/">https://www.legalscholars.ac.uk/event/
 conference-the-future-of-the-commercial-contract-in-scholarship-and-law-ref
 orm-5/</a></p><p> </p><p>[av_button label='iCal-Export' link='./feed/eo-eve
 nts' link_target='' size='small' position='center' label_display='' title_a
 ttr='' icon_select='yes' icon='ue85b' font='entypo-fontello' color='custom'
  custom_bg='#b5123e' custom_font='#ffffff' av_uid='' id='' custom_class='' 
 admin_preview_bg='']</p>
CATEGORIES:Recht interdisziplinär
LOCATION:Online
GEO:0.000000;0.000000
ORGANIZER;CN="ViFa-Recht":MAILTO:vifa-recht@sbb.spk-berlin.de
URL;VALUE=URI:https://events.intrecht.de/termine/termin/the-future-of-the-c
 ommercial-contract-in-scholarship-and-law-reform-tagung/
END:VEVENT
BEGIN:VTIMEZONE
TZID:Europe/Berlin
BEGIN:DAYLIGHT
TZOFFSETFROM:+0100
TZOFFSETTO:+0200
DTSTART:20220327T010000
TZNAME:CEST
END:DAYLIGHT
END:VTIMEZONE
END:VCALENDAR
