BEGIN:VCALENDAR
VERSION:2.0
PRODID:-//Events | FID-Recht//NONSGML Events//EN
CALSCALE:GREGORIAN
X-ORIGINAL-URL:https://events.intrecht.de/termine/
X-WR-CALDESC:Events | FID-Recht - Events
BEGIN:VEVENT
UID:20200602T0945Z-1591091115.9737-EO-599-1@172.16.200.141
STATUS:CONFIRMED
DTSTAMP:20260425T151014Z
CREATED:20260421T092222Z
LAST-MODIFIED:20260421T092222Z
DTSTART;VALUE=DATE:20261019
DTEND;VALUE=DATE:20261020
SUMMARY: The Future of International Peace and Security: Conceptualizing th
 e Securitization of Climate Change (Workshop)
DESCRIPTION: 19.10.2026 / Neubiberg https://www.unibw.de/recht-en/peaceclac
 c/call-for-papers-workshop-october-2026_new.pdf
X-ALT-DESC;FMTTYPE=text/html: <p>19.10.2026 / Neubiberg</p><p><a href="http
 s://www.unibw.de/recht-en/peaceclacc/call-for-papers-workshop-october-2026_
 new.pdf">https://www.unibw.de/recht-en/peaceclacc/call-for-papers-workshop-
 october-2026_new.pdf</a></p><p>[av_button label='iCal-Export' link='./feed/
 eo-events' link_target='' size='small' position='center' label_display='' t
 itle_attr='' icon_select='yes' icon='ue85b' font='entypo-fontello' color='c
 ustom' custom_bg='#b5123e' custom_font='#ffffff' av_uid='' id='' custom_cla
 ss='' admin_preview_bg='']</p>
CATEGORIES:Europäisches / Internationales Recht
LOCATION:Inland
GEO:0.000000;0.000000
ORGANIZER;CN="ViFa-Recht":MAILTO:vifa-recht@sbb.spk-berlin.de
URL;VALUE=URI:https://events.intrecht.de/termine/termin/the-future-of-inter
 national-peace-and-security-conceptualizing-the-securitization-of-climate-c
 hange-workshop/
END:VEVENT
BEGIN:VTIMEZONE
TZID:Europe/Berlin
BEGIN:DAYLIGHT
TZOFFSETFROM:+0100
TZOFFSETTO:+0200
DTSTART:20260329T010000
TZNAME:CEST
END:DAYLIGHT
END:VTIMEZONE
END:VCALENDAR
