BEGIN:VCALENDAR
VERSION:2.0
PRODID:-//Events | FID-Recht//NONSGML Events//EN
CALSCALE:GREGORIAN
X-ORIGINAL-URL:https://events.intrecht.de/termine/
X-WR-CALDESC:Events | FID-Recht - Events
BEGIN:VEVENT
UID:20201215T0307Z-1608001679.5966-EO-2359-1@172.16.200.141
STATUS:CONFIRMED
DTSTAMP:20260421T102924Z
CREATED:20201117T173321Z
LAST-MODIFIED:20211130T174224Z
DTSTART;VALUE=DATE:20210120
DTEND;VALUE=DATE:20210121
SUMMARY: The Future of International Environmental Law and the Law of the S
 ea (Call for Papers)
DESCRIPTION: 15.-16.4.2021\, Wellington/Online (Frist für Einreichungen: 20
 .1.2021) http://www.anzsil.org.au/event-4004558    
X-ALT-DESC;FMTTYPE=text/html: <p>15.-16.4.2021\, Wellington/Online (Frist f
 ür Einreichungen: 20.1.2021)</p><p><a href="http://www.anzsil.org.au/event-
 4004558">http://www.anzsil.org.au/event-4004558</a></p><p> </p><p> </p><p>[
 av_button label='iCal-Export' link='./feed/eo-events' link_target='' size='
 small' position='center' label_display='' title_attr='' icon_select='yes' i
 con='ue85b' font='entypo-fontello' color='custom' custom_bg='#b5123e' custo
 m_font='#ffffff' av_uid='' id='' custom_class='' admin_preview_bg='']</p>
CATEGORIES:Europäisches / Internationales Recht
LOCATION:Online
GEO:0.000000;0.000000
ORGANIZER;CN="ViFa-Recht":MAILTO:vifa-recht@sbb.spk-berlin.de
URL;VALUE=URI:https://events.intrecht.de/termine/termin/the-future-of-inter
 national-environmental-law-and-the-law-of-the-sea-call-for-papers/
END:VEVENT
BEGIN:VTIMEZONE
TZID:Europe/Berlin
BEGIN:STANDARD
TZOFFSETFROM:+0200
TZOFFSETTO:+0100
DTSTART:20201025T010000
TZNAME:CET
END:STANDARD
END:VTIMEZONE
END:VCALENDAR
