BEGIN:VCALENDAR
VERSION:2.0
PRODID:-//Events | FID-Recht//NONSGML Events//EN
CALSCALE:GREGORIAN
X-ORIGINAL-URL:https://events.intrecht.de/termine/
X-WR-CALDESC:Events | FID-Recht - Events
BEGIN:VEVENT
UID:20221208T2359Z-1670543972.1277-EO-7736-1@172.16.200.151
STATUS:CONFIRMED
DTSTAMP:20260421T150944Z
CREATED:20221206T173727Z
LAST-MODIFIED:20221206T173727Z
DTSTART;VALUE=DATE:20230427
DTEND;VALUE=DATE:20230429
SUMMARY: The Future of Company Law (Tagung)
DESCRIPTION: 27.-28.4.2023 / Edinburgh https://www.legalscholars.ac.uk/even
 t/sls-supported-event-conference-the-future-of-company-law/  
X-ALT-DESC;FMTTYPE=text/html: <p>27.-28.4.2023 / Edinburgh</p><p><a href="h
 ttps://www.legalscholars.ac.uk/event/sls-supported-event-conference-the-fut
 ure-of-company-law/">https://www.legalscholars.ac.uk/event/sls-supported-ev
 ent-conference-the-future-of-company-law/</a></p><p> </p><p>[av_button labe
 l='iCal-Export' link='./feed/eo-events' link_target='' size='small' positio
 n='center' label_display='' title_attr='' icon_select='yes' icon='ue85b' fo
 nt='entypo-fontello' color='custom' custom_bg='#b5123e' custom_font='#fffff
 f' av_uid='' id='' custom_class='' admin_preview_bg='']</p>
CATEGORIES:Zivilrecht
LOCATION:Ausland
GEO:0.000000;0.000000
ORGANIZER;CN="ViFa-Recht":MAILTO:vifa-recht@sbb.spk-berlin.de
URL;VALUE=URI:https://events.intrecht.de/termine/termin/the-future-of-compa
 ny-law-tagung/
END:VEVENT
BEGIN:VTIMEZONE
TZID:Europe/Berlin
BEGIN:DAYLIGHT
TZOFFSETFROM:+0100
TZOFFSETTO:+0200
DTSTART:20230326T010000
TZNAME:CEST
END:DAYLIGHT
END:VTIMEZONE
END:VCALENDAR
