BEGIN:VCALENDAR
VERSION:2.0
PRODID:-//Events | FID-Recht//NONSGML Events//EN
CALSCALE:GREGORIAN
X-ORIGINAL-URL:https://events.intrecht.de/termine/
X-WR-CALDESC:Events | FID-Recht - Events
BEGIN:VEVENT
UID:20200603T1418Z-1591193923.3362-EO-587-1@172.16.200.141
STATUS:CONFIRMED
DTSTAMP:20260423T065923Z
CREATED:20250423T131508Z
LAST-MODIFIED:20250423T131540Z
DTSTART;VALUE=DATE:20250709
DTEND;VALUE=DATE:20250712
SUMMARY: The franco-Italian draft for a common Code of Obligations (1927) (
 Internationale Tagung)
DESCRIPTION: 9.-11.7.2025 / Regensburg https://www.uni-regensburg.de/rechts
 wissenschaft/buergerliches-recht/loehnig/rechtshistorische-tagungen/index.h
 tml
X-ALT-DESC;FMTTYPE=text/html: <p>9.-11.7.2025 / Regensburg</p><p><a href="h
 ttps://www.uni-regensburg.de/rechtswissenschaft/buergerliches-recht/loehnig
 /rechtshistorische-tagungen/index.html">https://www.uni-regensburg.de/recht
 swissenschaft/buergerliches-recht/loehnig/rechtshistorische-tagungen/index.
 html</a></p><p>[av_button label='iCal-Export' link='./feed/eo-events' link_
 target='' size='small' position='center' label_display='' title_attr='' ico
 n_select='yes' icon='ue85b' font='entypo-fontello' color='custom' custom_bg
 ='#b5123e' custom_font='#ffffff' av_uid='' id='' custom_class='' admin_prev
 iew_bg='']</p>
CATEGORIES:Zivilrecht
LOCATION:Inland
GEO:0.000000;0.000000
ORGANIZER;CN="ViFa-Recht":MAILTO:vifa-recht@sbb.spk-berlin.de
URL;VALUE=URI:https://events.intrecht.de/termine/termin/the-franco-italian-
 draft-for-a-common-code-of-obligations-1927-internationale-tagung/
END:VEVENT
BEGIN:VTIMEZONE
TZID:Europe/Berlin
BEGIN:DAYLIGHT
TZOFFSETFROM:+0100
TZOFFSETTO:+0200
DTSTART:20250330T010000
TZNAME:CEST
END:DAYLIGHT
END:VTIMEZONE
END:VCALENDAR
