BEGIN:VCALENDAR
VERSION:2.0
PRODID:-//Events | FID-Recht//NONSGML Events//EN
CALSCALE:GREGORIAN
X-ORIGINAL-URL:https://events.intrecht.de/termine/
X-WR-CALDESC:Events | FID-Recht - Events
BEGIN:VEVENT
UID:20211117T2042Z-1637181743.2319-EO-5195-1@172.16.200.141
STATUS:CONFIRMED
DTSTAMP:20260420T111627Z
CREATED:20211116T234313Z
LAST-MODIFIED:20211116T234313Z
DTSTART;VALUE=DATE:20211125
DTEND;VALUE=DATE:20211126
SUMMARY: The Form and Reform of Inheritance Law in Islamic Societies (with 
 Ahmed E. Souaiaia) (Online-Vortrag)
DESCRIPTION: 25.11.2021\, Online Afternoon Talk on Islamic Law: „The Form a
 nd Reform of Inheritance Law in Islamic Societies“\, Prof. Ahmed E. Souaiai
 a (University of Iowa) (25 November 2021): Overview · Events (Indico) (gwdg
 .de)  
X-ALT-DESC;FMTTYPE=text/html: <p>25.11.2021\, Online</p><p><a href="https:/
 /events.gwdg.de/event/65/">Afternoon Talk on Islamic Law: "The Form and Ref
 orm of Inheritance Law in Islamic Societies"\, Prof. Ahmed E. Souaiaia (Uni
 versity of Iowa) (25 November 2021): Overview · Events (Indico) (gwdg.de)</
 a></p><p> </p><p>[av_button label='iCal-Export' link='./feed/eo-events' lin
 k_target='' size='small' position='center' label_display='' title_attr='' i
 con_select='yes' icon='ue85b' font='entypo-fontello' color='custom' custom_
 bg='#b5123e' custom_font='#ffffff' av_uid='' id='' custom_class='' admin_pr
 eview_bg='']</p>
CATEGORIES:Zivilrecht
LOCATION:Online
GEO:0.000000;0.000000
ORGANIZER;CN="ViFa-Recht":MAILTO:vifa-recht@sbb.spk-berlin.de
URL;VALUE=URI:https://events.intrecht.de/termine/termin/the-form-and-reform
 -of-inheritance-law-in-islamic-societies-with-ahmed-e-souaiaia-online-vortr
 ag/
END:VEVENT
BEGIN:VTIMEZONE
TZID:Europe/Berlin
BEGIN:STANDARD
TZOFFSETFROM:+0200
TZOFFSETTO:+0100
DTSTART:20211031T010000
TZNAME:CET
END:STANDARD
END:VTIMEZONE
END:VCALENDAR
