BEGIN:VCALENDAR
VERSION:2.0
PRODID:-//Events | FID-Recht//NONSGML Events//EN
CALSCALE:GREGORIAN
X-ORIGINAL-URL:https://events.intrecht.de/termine/
X-WR-CALDESC:Events | FID-Recht - Events
BEGIN:VEVENT
UID:20200603T1418Z-1591193923.3362-EO-587-1@172.16.200.141
STATUS:CONFIRMED
DTSTAMP:20260425T220110Z
CREATED:20230227T123332Z
LAST-MODIFIED:20230227T123332Z
DTSTART;VALUE=DATE:20230718
DTEND;VALUE=DATE:20230720
SUMMARY: The First University of St. Gallen Grand Challenge: The EU A.I. Ac
 t 2023
DESCRIPTION: 18.-19.7.2023 / St. Gallen https://www.thegrandchallenge.eu/ne
 ws/call-for-participation
X-ALT-DESC;FMTTYPE=text/html: <p>18.-19.7.2023 / St. Gallen</p><p><a href="
 https://www.thegrandchallenge.eu/news/call-for-participation">https://www.t
 hegrandchallenge.eu/news/call-for-participation</a></p><p>[av_button label=
 'iCal-Export' link='./feed/eo-events' link_target='' size='small' position=
 'center' label_display='' title_attr='' icon_select='yes' icon='ue85b' font
 ='entypo-fontello' color='custom' custom_bg='#b5123e' custom_font='#ffffff'
  av_uid='' id='' custom_class='' admin_preview_bg='']</p>
CATEGORIES:Europäisches / Internationales Recht
LOCATION:Ausland
GEO:0.000000;0.000000
ORGANIZER;CN="ViFa-Recht":MAILTO:vifa-recht@sbb.spk-berlin.de
URL;VALUE=URI:https://events.intrecht.de/termine/termin/the-first-universit
 y-of-st-gallen-grand-challenge-the-eu-a-i-act-2023/
END:VEVENT
BEGIN:VTIMEZONE
TZID:Europe/Berlin
BEGIN:DAYLIGHT
TZOFFSETFROM:+0100
TZOFFSETTO:+0200
DTSTART:20230326T010000
TZNAME:CEST
END:DAYLIGHT
END:VTIMEZONE
END:VCALENDAR
