BEGIN:VCALENDAR
VERSION:2.0
PRODID:-//Events | FID-Recht//NONSGML Events//EN
CALSCALE:GREGORIAN
X-ORIGINAL-URL:https://events.intrecht.de/termine/
X-WR-CALDESC:Events | FID-Recht - Events
BEGIN:VEVENT
UID:20200603T1418Z-1591193923.3362-EO-587-1@172.16.200.141
STATUS:CONFIRMED
DTSTAMP:20260421T115356Z
CREATED:20230905T103307Z
LAST-MODIFIED:20230905T103307Z
DTSTART;VALUE=DATE:20231109
DTEND;VALUE=DATE:20231110
SUMMARY: The Fight Against Impunity for International Crimes (Vortrag)
DESCRIPTION: 9.11.2023 / Online http://law.mpg.de/event/the-fight-against-i
 mpunity-for-international-crimes/
X-ALT-DESC;FMTTYPE=text/html: <p>9.11.2023 / Online</p><p><a href="http://l
 aw.mpg.de/event/the-fight-against-impunity-for-international-crimes/">http:
 //law.mpg.de/event/the-fight-against-impunity-for-international-crimes/</a>
 </p><p>[av_button label='iCal-Export' link='./feed/eo-events' link_target='
 ' size='small' position='center' label_display='' title_attr='' icon_select
 ='yes' icon='ue85b' font='entypo-fontello' color='custom' custom_bg='#b5123
 e' custom_font='#ffffff' av_uid='' id='' custom_class='' admin_preview_bg='
 ']</p>
CATEGORIES:Europäisches / Internationales Recht
LOCATION:Online
GEO:0.000000;0.000000
ORGANIZER;CN="ViFa-Recht":MAILTO:vifa-recht@sbb.spk-berlin.de
URL;VALUE=URI:https://events.intrecht.de/termine/termin/the-fight-against-i
 mpunity-for-international-crimes-vortrag/
END:VEVENT
BEGIN:VTIMEZONE
TZID:Europe/Berlin
BEGIN:STANDARD
TZOFFSETFROM:+0200
TZOFFSETTO:+0100
DTSTART:20231029T010000
TZNAME:CET
END:STANDARD
END:VTIMEZONE
END:VCALENDAR
