BEGIN:VCALENDAR
VERSION:2.0
PRODID:-//Events | FID-Recht//NONSGML Events//EN
CALSCALE:GREGORIAN
X-ORIGINAL-URL:https://events.intrecht.de/termine/
X-WR-CALDESC:Events | FID-Recht - Events
BEGIN:VEVENT
UID:20200603T1418Z-1591193923.3362-EO-587-1@172.16.200.141
STATUS:CONFIRMED
DTSTAMP:20260422T065506Z
CREATED:20240124T101959Z
LAST-MODIFIED:20240124T101959Z
DTSTART;VALUE=DATE:20240131
DTEND;VALUE=DATE:20240201
SUMMARY: The Failures of Others: Justifying Institutional Expansion in Publ
 ic Law (Hybrid Event)
DESCRIPTION: 31.1.2024 / Online und London https://www.ucl.ac.uk/laws/event
 s/2024/jan/hybrid-failures-others-justifying-institutional-expansion-public
 -law
X-ALT-DESC;FMTTYPE=text/html: <p>31.1.2024 / Online und London</p><p><a hre
 f="https://www.ucl.ac.uk/laws/events/2024/jan/hybrid-failures-others-justif
 ying-institutional-expansion-public-law">https://www.ucl.ac.uk/laws/events/
 2024/jan/hybrid-failures-others-justifying-institutional-expansion-public-l
 aw</a></p><p>[av_button label='iCal-Export' link='./feed/eo-events' link_ta
 rget='' size='small' position='center' label_display='' title_attr='' icon_
 select='yes' icon='ue85b' font='entypo-fontello' color='custom' custom_bg='
 #b5123e' custom_font='#ffffff' av_uid='' id='' custom_class='' admin_previe
 w_bg='']</p>
CATEGORIES:Öffentliches Recht
LOCATION:Hybrid
GEO:0.000000;0.000000
ORGANIZER;CN="ViFa-Recht":MAILTO:vifa-recht@sbb.spk-berlin.de
URL;VALUE=URI:https://events.intrecht.de/termine/termin/the-failures-of-oth
 ers-justifying-institutional-expansion-in-public-law-hybrid-event/
END:VEVENT
BEGIN:VTIMEZONE
TZID:Europe/Berlin
BEGIN:STANDARD
TZOFFSETFROM:+0200
TZOFFSETTO:+0100
DTSTART:20231029T010000
TZNAME:CET
END:STANDARD
END:VTIMEZONE
END:VCALENDAR
