BEGIN:VCALENDAR
VERSION:2.0
PRODID:-//Events | FID-Recht//NONSGML Events//EN
CALSCALE:GREGORIAN
X-ORIGINAL-URL:https://events.intrecht.de/termine/
X-WR-CALDESC:Events | FID-Recht - Events
BEGIN:VEVENT
UID:20211007T0610Z-1633587048.7921-EO-4437-1@172.16.200.141
STATUS:CONFIRMED
DTSTAMP:20260421T184240Z
CREATED:20211005T164641Z
LAST-MODIFIED:20211005T164641Z
DTSTART;VALUE=DATE:20211006
DTEND;VALUE=DATE:20211007
SUMMARY: The Fabric of the Ordinary – The Council of Trent and the governan
 ce of the Catholic Church in the Empire of Brazil (1840-1889) ((Online-)Vor
 trag)
DESCRIPTION: 6.10.2021\, Frankfurt (Main)/Online https://www.lhlt.mpg.de/26
 60814/event-21-10-06-glocalizing-normativities-research-colloquium.html  
X-ALT-DESC;FMTTYPE=text/html: <p>6.10.2021\, Frankfurt (Main)/Online</p><p>
 <a href="https://www.lhlt.mpg.de/2660814/event-21-10-06-glocalizing-normati
 vities-research-colloquium.html">https://www.lhlt.mpg.de/2660814/event-21-1
 0-06-glocalizing-normativities-research-colloquium.html</a></p><p> </p><p>[
 av_button label='iCal-Export' link='./feed/eo-events' link_target='' size='
 small' position='center' label_display='' title_attr='' icon_select='yes' i
 con='ue85b' font='entypo-fontello' color='custom' custom_bg='#b5123e' custo
 m_font='#ffffff' av_uid='' id='' custom_class='' admin_preview_bg='']</p>
CATEGORIES:Recht interdisziplinär
LOCATION:Online
GEO:0.000000;0.000000
ORGANIZER;CN="ViFa-Recht":MAILTO:vifa-recht@sbb.spk-berlin.de
URL;VALUE=URI:https://events.intrecht.de/termine/termin/the-fabric-of-the-o
 rdinary-the-council-of-trent-and-the-governance-of-the-catholic-church-in-t
 he-empire-of-brazil-1840-1889-online-vortrag/
END:VEVENT
BEGIN:VTIMEZONE
TZID:Europe/Berlin
BEGIN:DAYLIGHT
TZOFFSETFROM:+0100
TZOFFSETTO:+0200
DTSTART:20210328T010000
TZNAME:CEST
END:DAYLIGHT
END:VTIMEZONE
END:VCALENDAR
