BEGIN:VCALENDAR
VERSION:2.0
PRODID:-//Events | FID-Recht//NONSGML Events//EN
CALSCALE:GREGORIAN
X-ORIGINAL-URL:https://events.intrecht.de/termine/
X-WR-CALDESC:Events | FID-Recht - Events
BEGIN:VEVENT
UID:20200603T1418Z-1591193923.3362-EO-587-1@172.16.200.141
STATUS:CONFIRMED
DTSTAMP:20260423T073019Z
CREATED:20240314T094332Z
LAST-MODIFIED:20240314T094332Z
DTSTART;VALUE=DATE:20240321
DTEND;VALUE=DATE:20240322
SUMMARY: The EU’s Carbon Border Adjustment Mechanism (CBAM) (Webinar)
DESCRIPTION: 21.3.2024 / Online https://law.mpg.de/event/the-eus-carbon-bor
 der-adjustment-mechanism-cbam/
X-ALT-DESC;FMTTYPE=text/html: <p>21.3.2024 / Online</p><p><a href="https://
 law.mpg.de/event/the-eus-carbon-border-adjustment-mechanism-cbam/">https://
 law.mpg.de/event/the-eus-carbon-border-adjustment-mechanism-cbam/</a></p><p
 >[av_button label='iCal-Export' link='./feed/eo-events' link_target='' size
 ='small' position='center' label_display='' title_attr='' icon_select='yes'
  icon='ue85b' font='entypo-fontello' color='custom' custom_bg='#b5123e' cus
 tom_font='#ffffff' av_uid='' id='' custom_class='' admin_preview_bg='']</p>
CATEGORIES:Europäisches / Internationales Recht
LOCATION:Online
GEO:0.000000;0.000000
ORGANIZER;CN="ViFa-Recht":MAILTO:vifa-recht@sbb.spk-berlin.de
URL;VALUE=URI:https://events.intrecht.de/termine/termin/the-eus-carbon-bord
 er-adjustment-mechanism-cbam-webinar/
END:VEVENT
BEGIN:VTIMEZONE
TZID:Europe/Berlin
BEGIN:STANDARD
TZOFFSETFROM:+0200
TZOFFSETTO:+0100
DTSTART:20231029T010000
TZNAME:CET
END:STANDARD
END:VTIMEZONE
END:VCALENDAR
