BEGIN:VCALENDAR
VERSION:2.0
PRODID:-//Events | FID-Recht//NONSGML Events//EN
CALSCALE:GREGORIAN
X-ORIGINAL-URL:https://events.intrecht.de/termine/
X-WR-CALDESC:Events | FID-Recht - Events
BEGIN:VEVENT
UID:20200602T0945Z-1591091115.9737-EO-599-1@172.16.200.141
STATUS:CONFIRMED
DTSTAMP:20260423T071510Z
CREATED:20260210T121545Z
LAST-MODIFIED:20260210T121545Z
DTSTART;VALUE=DATE:20261211
DTEND;VALUE=DATE:20261212
SUMMARY: The European Union as a Sanctioning Actor: Legal and Institutional
  Developments (Conference)
DESCRIPTION: 11.12.2026 / Den Haag (Einreichungsfrist: 30.4.2026) https://w
 ww.asser.nl/media/5kuacfxx/cfp-sanctions_cleer_minos.pdf
X-ALT-DESC;FMTTYPE=text/html: <p>11.12.2026 / Den Haag <strong>(Einreichung
 sfrist: 30.4.2026)</strong></p><p><a href="https://www.asser.nl/media/5kuac
 fxx/cfp-sanctions_cleer_minos.pdf">https://www.asser.nl/media/5kuacfxx/cfp-
 sanctions_cleer_minos.pdf</a></p><p>[av_button label='iCal-Export' link='./
 feed/eo-events' link_target='' size='small' position='center' label_display
 ='' title_attr='' icon_select='yes' icon='ue85b' font='entypo-fontello' col
 or='custom' custom_bg='#b5123e' custom_font='#ffffff' av_uid='' id='' custo
 m_class='' admin_preview_bg='']</p>
CATEGORIES:Europäisches / Internationales Recht
LOCATION:Ausland
GEO:0.000000;0.000000
ORGANIZER;CN="ViFa-Recht":MAILTO:vifa-recht@sbb.spk-berlin.de
URL;VALUE=URI:https://events.intrecht.de/termine/termin/the-european-union-
 as-a-sanctioning-actor-legal-and-institutional-developments-conference/
END:VEVENT
BEGIN:VTIMEZONE
TZID:Europe/Berlin
BEGIN:STANDARD
TZOFFSETFROM:+0200
TZOFFSETTO:+0100
DTSTART:20261025T010000
TZNAME:CET
END:STANDARD
END:VTIMEZONE
END:VCALENDAR
