BEGIN:VCALENDAR
VERSION:2.0
PRODID:-//Events | FID-Recht//NONSGML Events//EN
CALSCALE:GREGORIAN
X-ORIGINAL-URL:https://events.intrecht.de/termine/
X-WR-CALDESC:Events | FID-Recht - Events
BEGIN:VEVENT
UID:20220913T2227Z-1663108026.0413-EO-5885-1@172.16.200.151
STATUS:CONFIRMED
DTSTAMP:20260422T160853Z
CREATED:20220912T135242Z
LAST-MODIFIED:20220912T135331Z
DTSTART;VALUE=DATE:20230621
DTEND;VALUE=DATE:20230624
SUMMARY: The European Society for Comparative Legal History’s Seventh Bienn
 ial Conference (Tagung)
DESCRIPTION: 21.-23.6.2023\, Augsburg (Frist für Einreichungen: 15.11.2022)
  http://esclh.blogspot.com/p/call-for-papers-european-society-for.html  
X-ALT-DESC;FMTTYPE=text/html: <p>21.-23.6.2023\, Augsburg (Frist für Einrei
 chungen: 15.11.2022)</p><p><a href="http://esclh.blogspot.com/p/call-for-pa
 pers-european-society-for.html">http://esclh.blogspot.com/p/call-for-papers
 -european-society-for.html</a></p><p> </p><p>[av_button label='iCal-Export'
  link='./feed/eo-events' link_target='' size='small' position='center' labe
 l_display='' title_attr='' icon_select='yes' icon='ue85b' font='entypo-font
 ello' color='custom' custom_bg='#b5123e' custom_font='#ffffff' av_uid='' id
 ='' custom_class='' admin_preview_bg='']</p>
CATEGORIES:Recht interdisziplinär
LOCATION:Inland
GEO:0.000000;0.000000
ORGANIZER;CN="ViFa-Recht":MAILTO:vifa-recht@sbb.spk-berlin.de
URL;VALUE=URI:https://events.intrecht.de/termine/termin/the-european-societ
 y-for-comparative-legal-historys-seventh-biennial-conference-tagung/
END:VEVENT
BEGIN:VTIMEZONE
TZID:Europe/Berlin
BEGIN:DAYLIGHT
TZOFFSETFROM:+0100
TZOFFSETTO:+0200
DTSTART:20230326T010000
TZNAME:CEST
END:DAYLIGHT
END:VTIMEZONE
END:VCALENDAR
