BEGIN:VCALENDAR
VERSION:2.0
PRODID:-//Events | FID-Recht//NONSGML Events//EN
CALSCALE:GREGORIAN
X-ORIGINAL-URL:https://events.intrecht.de/termine/
X-WR-CALDESC:Events | FID-Recht - Events
BEGIN:VEVENT
UID:20221018T2142Z-1666129352.2802-EO-6638-1@172.16.200.151
STATUS:CONFIRMED
DTSTAMP:20260420T111455Z
CREATED:20221017T103027Z
LAST-MODIFIED:20221017T103027Z
DTSTART;VALUE=DATE:20221115
DTEND;VALUE=DATE:20221116
SUMMARY: The European Court of Human Rights: Current Challenges in Historic
 al Perspective (Panel Discussion)
DESCRIPTION: 15.11.2022 / Online und Berlin https://www.rewi.hu-berlin.de/d
 e/lf/oe/lsi/termine/the-european-court-of-human-rights-current-challenges-i
 n-historical-perspective-panel-discussion-with-helmut-aust-esra-demir-guers
 el-and-others  
X-ALT-DESC;FMTTYPE=text/html: <p>15.11.2022 / Online und Berlin</p><p><a hr
 ef="https://www.rewi.hu-berlin.de/de/lf/oe/lsi/termine/the-european-court-o
 f-human-rights-current-challenges-in-historical-perspective-panel-discussio
 n-with-helmut-aust-esra-demir-guersel-and-others">https://www.rewi.hu-berli
 n.de/de/lf/oe/lsi/termine/the-european-court-of-human-rights-current-challe
 nges-in-historical-perspective-panel-discussion-with-helmut-aust-esra-demir
 -guersel-and-others</a></p><p> </p><p>[av_button label='iCal-Export' link='
 ./feed/eo-events' link_target='' size='small' position='center' label_displ
 ay='' title_attr='' icon_select='yes' icon='ue85b' font='entypo-fontello' c
 olor='custom' custom_bg='#b5123e' custom_font='#ffffff' av_uid='' id='' cus
 tom_class='' admin_preview_bg='']</p>
CATEGORIES:Europäisches / Internationales Recht
LOCATION:Online
GEO:0.000000;0.000000
ORGANIZER;CN="ViFa-Recht":MAILTO:vifa-recht@sbb.spk-berlin.de
URL;VALUE=URI:https://events.intrecht.de/termine/termin/the-european-court-
 of-human-rights-current-challenges-in-historical-perspective-panel-discussi
 on/
END:VEVENT
BEGIN:VTIMEZONE
TZID:Europe/Berlin
BEGIN:STANDARD
TZOFFSETFROM:+0200
TZOFFSETTO:+0100
DTSTART:20221030T010000
TZNAME:CET
END:STANDARD
END:VTIMEZONE
END:VCALENDAR
