BEGIN:VCALENDAR
VERSION:2.0
PRODID:-//Events | FID-Recht//NONSGML Events//EN
CALSCALE:GREGORIAN
X-ORIGINAL-URL:https://events.intrecht.de/termine/
X-WR-CALDESC:Events | FID-Recht - Events
BEGIN:VEVENT
UID:20200602T0945Z-1591091115.9737-EO-599-1@172.16.200.141
STATUS:CONFIRMED
DTSTAMP:20260423T022041Z
CREATED:20260210T115338Z
LAST-MODIFIED:20260210T115338Z
DTSTART;VALUE=DATE:20260226
DTEND;VALUE=DATE:20260227
SUMMARY: The European Convention on Human Rights at 75+ –Toothless Tiger or
  Effective Enforcer? (Online Event)
DESCRIPTION: 26.2.2026 / Online https://www.asil.org/event/european-convent
 ion-human-rights-75-%E2%80%93toothless-tiger-or-effective-enforcer-law-libr
 ary
X-ALT-DESC;FMTTYPE=text/html: <p>26.2.2026 / Online</p><p><a href="https://
 www.asil.org/event/european-convention-human-rights-75-%E2%80%93toothless-t
 iger-or-effective-enforcer-law-library">https://www.asil.org/event/european
 -convention-human-rights-75-%E2%80%93toothless-tiger-or-effective-enforcer-
 law-library</a></p><p>[av_button label='iCal-Export' link='./feed/eo-events
 ' link_target='' size='small' position='center' label_display='' title_attr
 ='' icon_select='yes' icon='ue85b' font='entypo-fontello' color='custom' cu
 stom_bg='#b5123e' custom_font='#ffffff' av_uid='' id='' custom_class='' adm
 in_preview_bg='']</p>
CATEGORIES:Europäisches / Internationales Recht
LOCATION:Online
GEO:0.000000;0.000000
ORGANIZER;CN="ViFa-Recht":MAILTO:vifa-recht@sbb.spk-berlin.de
URL;VALUE=URI:https://events.intrecht.de/termine/termin/the-european-conven
 tion-on-human-rights-at-75-toothless-tiger-or-effective-enforcer-online-eve
 nt/
END:VEVENT
BEGIN:VTIMEZONE
TZID:Europe/Berlin
BEGIN:STANDARD
TZOFFSETFROM:+0200
TZOFFSETTO:+0100
DTSTART:20251026T010000
TZNAME:CET
END:STANDARD
END:VTIMEZONE
END:VCALENDAR
