BEGIN:VCALENDAR
VERSION:2.0
PRODID:-//Events | FID-Recht//NONSGML Events//EN
CALSCALE:GREGORIAN
X-ORIGINAL-URL:https://events.intrecht.de/termine/
X-WR-CALDESC:Events | FID-Recht - Events
BEGIN:VEVENT
UID:20200603T1418Z-1591193923.3362-EO-587-1@172.16.200.141
STATUS:CONFIRMED
DTSTAMP:20260422T211644Z
CREATED:20241212T143521Z
LAST-MODIFIED:20241212T143521Z
DTSTART;VALUE=DATE:20250206
DTEND;VALUE=DATE:20250207
SUMMARY: The EU Treaties Are Dead\, Long Live the European Union (Hybrid Ev
 ent)
DESCRIPTION: 6.2.2025 / Online und Berlin https://www.budgetarypowers.com/v
 eranstaltungen
X-ALT-DESC;FMTTYPE=text/html: <p>6.2.2025 / Online und Berlin</p><p><a href
 ="https://www.budgetarypowers.com/veranstaltungen">https://www.budgetarypow
 ers.com/veranstaltungen</a></p><p>[av_button label='iCal-Export' link='./fe
 ed/eo-events' link_target='' size='small' position='center' label_display='
 ' title_attr='' icon_select='yes' icon='ue85b' font='entypo-fontello' color
 ='custom' custom_bg='#b5123e' custom_font='#ffffff' av_uid='' id='' custom_
 class='' admin_preview_bg='']</p>
CATEGORIES:Europäisches / Internationales Recht
LOCATION:Hybrid
GEO:0.000000;0.000000
ORGANIZER;CN="ViFa-Recht":MAILTO:vifa-recht@sbb.spk-berlin.de
URL;VALUE=URI:https://events.intrecht.de/termine/termin/the-eu-treaties-are
 -dead-long-live-the-european-union-hybrid-event/
END:VEVENT
BEGIN:VTIMEZONE
TZID:Europe/Berlin
BEGIN:STANDARD
TZOFFSETFROM:+0200
TZOFFSETTO:+0100
DTSTART:20241027T010000
TZNAME:CET
END:STANDARD
END:VTIMEZONE
END:VCALENDAR
