BEGIN:VCALENDAR
VERSION:2.0
PRODID:-//Events | FID-Recht//NONSGML Events//EN
CALSCALE:GREGORIAN
X-ORIGINAL-URL:https://events.intrecht.de/termine/
X-WR-CALDESC:Events | FID-Recht - Events
BEGIN:VEVENT
UID:20200603T1418Z-1591193923.3362-EO-587-1@172.16.200.141
STATUS:CONFIRMED
DTSTAMP:20260425T134025Z
CREATED:20230703T073521Z
LAST-MODIFIED:20230703T073521Z
DTSTART;VALUE=DATE:20230710
DTEND;VALUE=DATE:20230711
SUMMARY: The enforcement of transnational climate litigation cases in Afric
 a: Any role for Private International Law? (Virtual Workshop)
DESCRIPTION: 10.7.2023 / Online https://events.mpipriv.de/pil-in-africa-egh
 osa-ekhator-10-7-23
X-ALT-DESC;FMTTYPE=text/html: <p>10.7.2023 / Online</p><p><a href="https://
 events.mpipriv.de/pil-in-africa-eghosa-ekhator-10-7-23">https://events.mpip
 riv.de/pil-in-africa-eghosa-ekhator-10-7-23</a></p><p>[av_button label='iCa
 l-Export' link='./feed/eo-events' link_target='' size='small' position='cen
 ter' label_display='' title_attr='' icon_select='yes' icon='ue85b' font='en
 typo-fontello' color='custom' custom_bg='#b5123e' custom_font='#ffffff' av_
 uid='' id='' custom_class='' admin_preview_bg='']</p>
CATEGORIES:Zivilrecht
LOCATION:Online
GEO:0.000000;0.000000
ORGANIZER;CN="ViFa-Recht":MAILTO:vifa-recht@sbb.spk-berlin.de
URL;VALUE=URI:https://events.intrecht.de/termine/termin/the-enforcement-of-
 transnational-climate-litigation-cases-in-africa-any-role-for-private-inter
 national-law-virtual-workshop/
END:VEVENT
BEGIN:VTIMEZONE
TZID:Europe/Berlin
BEGIN:DAYLIGHT
TZOFFSETFROM:+0100
TZOFFSETTO:+0200
DTSTART:20230326T010000
TZNAME:CEST
END:DAYLIGHT
END:VTIMEZONE
END:VCALENDAR
