BEGIN:VCALENDAR
VERSION:2.0
PRODID:-//Events | FID-Recht//NONSGML Events//EN
CALSCALE:GREGORIAN
X-ORIGINAL-URL:https://events.intrecht.de/termine/
X-WR-CALDESC:Events | FID-Recht - Events
BEGIN:VEVENT
UID:20200603T1418Z-1591193923.3362-EO-587-1@172.16.200.141
STATUS:CONFIRMED
DTSTAMP:20260423T072624Z
CREATED:20230810T091946Z
LAST-MODIFIED:20230810T091946Z
DTSTART;VALUE=DATE:20231011
DTEND;VALUE=DATE:20231012
SUMMARY: The emerging EU law on corporate sustainable responsibility: Compe
 tences\, complementarity\, conflicts (Online-Event)
DESCRIPTION: 11.10.2023 / Online https://www.hertie-school.org/en/events/ev
 ent-detail/event/the-emerging-eu-law-on-corporate-sustainable-responsibilit
 y-competences-complementarity-conflicts
X-ALT-DESC;FMTTYPE=text/html: <p>11.10.2023 / Online</p><p><a href="https:/
 /www.hertie-school.org/en/events/event-detail/event/the-emerging-eu-law-on-
 corporate-sustainable-responsibility-competences-complementarity-conflicts"
 >https://www.hertie-school.org/en/events/event-detail/event/the-emerging-eu
 -law-on-corporate-sustainable-responsibility-competences-complementarity-co
 nflicts</a></p><p>[av_button label='iCal-Export' link='./feed/eo-events' li
 nk_target='' size='small' position='center' label_display='' title_attr='' 
 icon_select='yes' icon='ue85b' font='entypo-fontello' color='custom' custom
 _bg='#b5123e' custom_font='#ffffff' av_uid='' id='' custom_class='' admin_p
 review_bg='']</p>
CATEGORIES:Europäisches / Internationales Recht
LOCATION:Online
GEO:0.000000;0.000000
ORGANIZER;CN="ViFa-Recht":MAILTO:vifa-recht@sbb.spk-berlin.de
URL;VALUE=URI:https://events.intrecht.de/termine/termin/the-emerging-eu-law
 -on-corporate-sustainable-responsibility-competences-complementarity-confli
 cts-online-event/
END:VEVENT
BEGIN:VTIMEZONE
TZID:Europe/Berlin
BEGIN:DAYLIGHT
TZOFFSETFROM:+0100
TZOFFSETTO:+0200
DTSTART:20230326T010000
TZNAME:CEST
END:DAYLIGHT
END:VTIMEZONE
END:VCALENDAR
