BEGIN:VCALENDAR
VERSION:2.0
PRODID:-//Events | FID-Recht//NONSGML Events//EN
CALSCALE:GREGORIAN
X-ORIGINAL-URL:https://events.intrecht.de/termine/
X-WR-CALDESC:Events | FID-Recht - Events
BEGIN:VEVENT
UID:20201118T0311Z-1605669064.8055-EO-2174-1@172.16.200.141
STATUS:CONFIRMED
DTSTAMP:20260421T133642Z
CREATED:20201105T193030Z
LAST-MODIFIED:20201105T193030Z
DTSTART;VALUE=DATE:20211124
DTEND;VALUE=DATE:20211127
SUMMARY: The ECHR Turns 70 – Taking Stock\, Thinking Forward (Konferenz)
DESCRIPTION: 24.-26.11.2021\, Gent https://blog-iacl-aidc.org/cfp/2020/2/6/
 cfp-conference-eu-convention-on-human-rights-turns-70-taking-stock-thinking
 -forward https://hrc.ugent.be/ECHR70/  
X-ALT-DESC;FMTTYPE=text/html: <p>24.-26.11.2021\, Gent</p><p><a href="https
 ://blog-iacl-aidc.org/cfp/2020/2/6/cfp-conference-eu-convention-on-human-ri
 ghts-turns-70-taking-stock-thinking-forward">https://blog-iacl-aidc.org/cfp
 /2020/2/6/cfp-conference-eu-convention-on-human-rights-turns-70-taking-stoc
 k-thinking-forward</a></p><p><a href="https://hrc.ugent.be/ECHR70/">https:/
 /hrc.ugent.be/ECHR70/</a></p><p> </p><p>[av_button label='iCal-Export' link
 ='./feed/eo-events' link_target='' size='small' position='center' label_dis
 play='' title_attr='' icon_select='yes' icon='ue85b' font='entypo-fontello'
  color='custom' custom_bg='#b5123e' custom_font='#ffffff' av_uid='' id='' c
 ustom_class='' admin_preview_bg='']</p>
CATEGORIES:Europäisches / Internationales Recht
LOCATION:Ausland
GEO:0.000000;0.000000
ORGANIZER;CN="ViFa-Recht":MAILTO:vifa-recht@sbb.spk-berlin.de
URL;VALUE=URI:https://events.intrecht.de/termine/termin/the-echr-turns-70-t
 aking-stock-thinking-forward-konferenz/
END:VEVENT
BEGIN:VTIMEZONE
TZID:Europe/Berlin
BEGIN:STANDARD
TZOFFSETFROM:+0200
TZOFFSETTO:+0100
DTSTART:20211031T010000
TZNAME:CET
END:STANDARD
END:VTIMEZONE
END:VCALENDAR
