BEGIN:VCALENDAR
VERSION:2.0
PRODID:-//Events | FID-Recht//NONSGML Events//EN
CALSCALE:GREGORIAN
X-ORIGINAL-URL:https://events.intrecht.de/termine/
X-WR-CALDESC:Events | FID-Recht - Events
BEGIN:VEVENT
UID:20220211T2007Z-1644610059.2109-EO-5276-1@172.16.200.141
STATUS:CONFIRMED
DTSTAMP:20260421T102731Z
CREATED:20220207T173658Z
LAST-MODIFIED:20220207T173658Z
DTSTART;VALUE=DATE:20220331
DTEND;VALUE=DATE:20220401
SUMMARY: The Dynamics of Early Modern Colonial Laws and Legal Literature (T
 agung) (CfP)
DESCRIPTION: 26.-28.10.2022\, Helsinki (Frist für Einreichungen: 31.3.2022)
  http://esclh.blogspot.com/2022/01/call-for-papers-dynamics-of-early.html  
X-ALT-DESC;FMTTYPE=text/html: <p>26.-28.10.2022\, Helsinki (Frist für Einre
 ichungen: 31.3.2022)</p><p><a href="http://esclh.blogspot.com/2022/01/call-
 for-papers-dynamics-of-early.html">http://esclh.blogspot.com/2022/01/call-f
 or-papers-dynamics-of-early.html</a></p><p> </p><p>[av_button label='iCal-E
 xport' link='./feed/eo-events' link_target='' size='small' position='center
 ' label_display='' title_attr='' icon_select='yes' icon='ue85b' font='entyp
 o-fontello' color='custom' custom_bg='#b5123e' custom_font='#ffffff' av_uid
 ='' id='' custom_class='' admin_preview_bg='']</p>
CATEGORIES:Recht interdisziplinär
LOCATION:Ausland
GEO:0.000000;0.000000
ORGANIZER;CN="ViFa-Recht":MAILTO:vifa-recht@sbb.spk-berlin.de
URL;VALUE=URI:https://events.intrecht.de/termine/termin/the-dynamics-of-ear
 ly-modern-colonial-laws-and-legal-literature-tagung-cfp/
END:VEVENT
BEGIN:VTIMEZONE
TZID:Europe/Berlin
BEGIN:DAYLIGHT
TZOFFSETFROM:+0100
TZOFFSETTO:+0200
DTSTART:20220327T010000
TZNAME:CEST
END:DAYLIGHT
END:VTIMEZONE
END:VCALENDAR
