BEGIN:VCALENDAR
VERSION:2.0
PRODID:-//Events | FID-Recht//NONSGML Events//EN
CALSCALE:GREGORIAN
X-ORIGINAL-URL:https://events.intrecht.de/termine/
X-WR-CALDESC:Events | FID-Recht - Events
BEGIN:VEVENT
UID:20210915T0256Z-1631674574.9226-EO-4165-1@172.16.200.141
STATUS:CONFIRMED
DTSTAMP:20260423T084924Z
CREATED:20210907T080132Z
LAST-MODIFIED:20210907T080440Z
DTSTART;VALUE=DATE:20211007
DTEND;VALUE=DATE:20211009
SUMMARY: The Dust of Time? Towards a 21st Century constitutionalism ((Onlin
 e-)Konferenz)
DESCRIPTION: 7.-8.10.2021\, Florenz/Online (Frist für Einreichungen: 31.3.2
 021) Constitutionalism and Politics Working Group at the EUI – Startseite |
  Facebook  
X-ALT-DESC;FMTTYPE=text/html: <p>7.-8.10.2021\, Florenz/Online (Frist für E
 inreichungen: 31.3.2021)</p><p><a href="https://www.facebook.com/constpolEU
 I/photos/pb.1104853772935421.-2207520000../3684624994958273/?type=3&theater
 ">Constitutionalism and Politics Working Group at the EUI - Startseite | Fa
 cebook</a></p><p> </p><p>[av_button label='iCal-Export' link='./feed/eo-eve
 nts' link_target='' size='small' position='center' label_display='' title_a
 ttr='' icon_select='yes' icon='ue85b' font='entypo-fontello' color='custom'
  custom_bg='#b5123e' custom_font='#ffffff' av_uid='' id='' custom_class='' 
 admin_preview_bg='']</p>
CATEGORIES:Öffentliches Recht,Recht interdisziplinär
LOCATION:Online
GEO:0.000000;0.000000
ORGANIZER;CN="ViFa-Recht":MAILTO:vifa-recht@sbb.spk-berlin.de
URL;VALUE=URI:https://events.intrecht.de/termine/termin/the-dust-of-time-to
 wards-a-21st-century-constitutionalism-online-konferenz/
END:VEVENT
BEGIN:VTIMEZONE
TZID:Europe/Berlin
BEGIN:DAYLIGHT
TZOFFSETFROM:+0100
TZOFFSETTO:+0200
DTSTART:20210328T010000
TZNAME:CEST
END:DAYLIGHT
END:VTIMEZONE
END:VCALENDAR
