BEGIN:VCALENDAR
VERSION:2.0
PRODID:-//Events | FID-Recht//NONSGML Events//EN
CALSCALE:GREGORIAN
X-ORIGINAL-URL:https://events.intrecht.de/termine/
X-WR-CALDESC:Events | FID-Recht - Events
BEGIN:VEVENT
UID:20200603T1418Z-1591193923.3362-EO-587-1@172.16.200.141
STATUS:CONFIRMED
DTSTAMP:20260422T211643Z
CREATED:20240830T093802Z
LAST-MODIFIED:20240830T093802Z
DTSTART;VALUE=DATE:20250228
DTEND;VALUE=DATE:20250301
SUMMARY: The diversification of civilian agency in armed conflict: A legal 
 perspective (Conference)
DESCRIPTION: 28.2.2025 / Amsterdam (Einreichungsfrist: 1.11.2024) https://a
 crobat.adobe.com/id/urn:aaid:sc:EU:66e3c2fa-93ab-41de-8969-7947864bd16d?vie
 wer%21megaVerb=group-discover
X-ALT-DESC;FMTTYPE=text/html: <p>28.2.2025 / Amsterdam <strong>(Einreichung
 sfrist: 1.11.2024)</strong></p><p><a href="https://acrobat.adobe.com/id/urn
 :aaid:sc:EU:66e3c2fa-93ab-41de-8969-7947864bd16d?viewer%21megaVerb=group-di
 scover">https://acrobat.adobe.com/id/urn:aaid:sc:EU:66e3c2fa-93ab-41de-8969
 -7947864bd16d?viewer%21megaVerb=group-discover</a></p><p>[av_button label='
 iCal-Export' link='./feed/eo-events' link_target='' size='small' position='
 center' label_display='' title_attr='' icon_select='yes' icon='ue85b' font=
 'entypo-fontello' color='custom' custom_bg='#b5123e' custom_font='#ffffff' 
 av_uid='' id='' custom_class='' admin_preview_bg='']</p>
CATEGORIES:Europäisches / Internationales Recht
LOCATION:Ausland
GEO:0.000000;0.000000
ORGANIZER;CN="ViFa-Recht":MAILTO:vifa-recht@sbb.spk-berlin.de
URL;VALUE=URI:https://events.intrecht.de/termine/termin/the-diversification
 -of-civilian-agency-in-armed-conflict-a-legal-perspective-conference/
END:VEVENT
BEGIN:VTIMEZONE
TZID:Europe/Berlin
BEGIN:STANDARD
TZOFFSETFROM:+0200
TZOFFSETTO:+0100
DTSTART:20241027T010000
TZNAME:CET
END:STANDARD
END:VTIMEZONE
END:VCALENDAR
