BEGIN:VCALENDAR
VERSION:2.0
PRODID:-//Events | FID-Recht//NONSGML Events//EN
CALSCALE:GREGORIAN
X-ORIGINAL-URL:https://events.intrecht.de/termine/
X-WR-CALDESC:Events | FID-Recht - Events
BEGIN:VEVENT
UID:20200602T0945Z-1591091115.9737-EO-599-1@172.16.200.141
STATUS:CONFIRMED
DTSTAMP:20260423T034346Z
CREATED:20251008T082902Z
LAST-MODIFIED:20251008T082902Z
DTSTART;VALUE=DATE:20260318
DTEND;VALUE=DATE:20260320
SUMMARY: The Digital Euro – Which Ways Forward? (Conference)
DESCRIPTION: 18.-19.3.2026 / Frankfurt am Main (Einreichungsfrist: 30.10.20
 25) https://zevedi.de/wp-content/uploads/ZEVEDI_Konferenz-CfA_DINO_20260318
 .pdf
X-ALT-DESC;FMTTYPE=text/html: <p>18.-19.3.2026 / Frankfurt am Main <strong>
 (Einreichungsfrist: 30.10.2025)</strong></p><p><a href="https://zevedi.de/w
 p-content/uploads/ZEVEDI_Konferenz-CfA_DINO_20260318.pdf">https://zevedi.de
 /wp-content/uploads/ZEVEDI_Konferenz-CfA_DINO_20260318.pdf</a></p><p>[av_bu
 tton label='iCal-Export' link='./feed/eo-events' link_target='' size='small
 ' position='center' label_display='' title_attr='' icon_select='yes' icon='
 ue85b' font='entypo-fontello' color='custom' custom_bg='#b5123e' custom_fon
 t='#ffffff' av_uid='' id='' custom_class='' admin_preview_bg='']</p>
CATEGORIES:Recht interdisziplinär
LOCATION:Inland
GEO:0.000000;0.000000
ORGANIZER;CN="ViFa-Recht":MAILTO:vifa-recht@sbb.spk-berlin.de
URL;VALUE=URI:https://events.intrecht.de/termine/termin/the-digital-euro-wh
 ich-ways-forward-conference/
END:VEVENT
BEGIN:VTIMEZONE
TZID:Europe/Berlin
BEGIN:STANDARD
TZOFFSETFROM:+0200
TZOFFSETTO:+0100
DTSTART:20251026T010000
TZNAME:CET
END:STANDARD
END:VTIMEZONE
END:VCALENDAR
