BEGIN:VCALENDAR
VERSION:2.0
PRODID:-//Events | FID-Recht//NONSGML Events//EN
CALSCALE:GREGORIAN
X-ORIGINAL-URL:https://events.intrecht.de/termine/
X-WR-CALDESC:Events | FID-Recht - Events
BEGIN:VEVENT
UID:20210328T0901Z-1616922064.9778-EO-3701-1@172.16.200.141
STATUS:CONFIRMED
DTSTAMP:20260422T112621Z
CREATED:20210319T134224Z
LAST-MODIFIED:20210319T134402Z
DTSTART;VALUE=DATE:20210319
DTEND;VALUE=DATE:20210320
SUMMARY: The deconstitutionalisation of international law in times of popul
 ism and pandemic (mit Anne Peters) (Online-Vortrag)
DESCRIPTION: 19.3.2021\, Online https://www.nottingham.ac.uk/law/events/202
 1/the-deconstitutionalisation-of-international-law-in-times-of-populism-and
 -pandemic.aspx  
X-ALT-DESC;FMTTYPE=text/html: <p>19.3.2021\, Online</p><p><a href="https://
 www.nottingham.ac.uk/law/events/2021/the-deconstitutionalisation-of-interna
 tional-law-in-times-of-populism-and-pandemic.aspx">https://www.nottingham.a
 c.uk/law/events/2021/the-deconstitutionalisation-of-international-law-in-ti
 mes-of-populism-and-pandemic.aspx</a></p><p> </p><p>[av_button label='iCal-
 Export' link='./feed/eo-events' link_target='' size='small' position='cente
 r' label_display='' title_attr='' icon_select='yes' icon='ue85b' font='enty
 po-fontello' color='custom' custom_bg='#b5123e' custom_font='#ffffff' av_ui
 d='' id='' custom_class='' admin_preview_bg='']</p>
CATEGORIES:Europäisches / Internationales Recht
LOCATION:Online
GEO:0.000000;0.000000
ORGANIZER;CN="ViFa-Recht":MAILTO:vifa-recht@sbb.spk-berlin.de
URL;VALUE=URI:https://events.intrecht.de/termine/termin/the-deconstitutiona
 lisation-of-international-law-in-times-of-populism-and-pandemic-mit-anne-pe
 ters-online-vortrag/
END:VEVENT
BEGIN:VTIMEZONE
TZID:Europe/Berlin
BEGIN:STANDARD
TZOFFSETFROM:+0200
TZOFFSETTO:+0100
DTSTART:20201025T010000
TZNAME:CET
END:STANDARD
END:VTIMEZONE
END:VCALENDAR
