BEGIN:VCALENDAR
VERSION:2.0
PRODID:-//Events | FID-Recht//NONSGML Events//EN
CALSCALE:GREGORIAN
X-ORIGINAL-URL:https://events.intrecht.de/termine/
X-WR-CALDESC:Events | FID-Recht - Events
BEGIN:VEVENT
UID:20200603T1418Z-1591193923.3362-EO-587-1@172.16.200.141
STATUS:CONFIRMED
DTSTAMP:20260425T132442Z
CREATED:20231101T104454Z
LAST-MODIFIED:20231101T104454Z
DTSTART;VALUE=DATE:20231127
DTEND;VALUE=DATE:20231128
SUMMARY: The Decline of the World Trade Organization as a Forum for Trade G
 overnance: Who Wins and Who Loses? (KFG Panel Discussion)
DESCRIPTION: 27.11.2023 / Berlin https://www.kfg-intlaw.de/News%20and%20Eve
 nts/news_einzel.php?ID=263
X-ALT-DESC;FMTTYPE=text/html: <p>27.11.2023 / Berlin</p><p><a href="https:/
 /www.kfg-intlaw.de/News%20and%20Events/news_einzel.php?ID=263">https://www.
 kfg-intlaw.de/News%20and%20Events/news_einzel.php?ID=263</a></p><p>[av_butt
 on label='iCal-Export' link='./feed/eo-events' link_target='' size='small' 
 position='center' label_display='' title_attr='' icon_select='yes' icon='ue
 85b' font='entypo-fontello' color='custom' custom_bg='#b5123e' custom_font=
 '#ffffff' av_uid='' id='' custom_class='' admin_preview_bg='']</p>
CATEGORIES:Europäisches / Internationales Recht
LOCATION:Inland
GEO:0.000000;0.000000
ORGANIZER;CN="ViFa-Recht":MAILTO:vifa-recht@sbb.spk-berlin.de
URL;VALUE=URI:https://events.intrecht.de/termine/termin/the-decline-of-the-
 world-trade-organization-as-a-forum-for-trade-governance-who-wins-and-who-l
 oses-kfg-panel-discussion/
END:VEVENT
BEGIN:VTIMEZONE
TZID:Europe/Berlin
BEGIN:STANDARD
TZOFFSETFROM:+0200
TZOFFSETTO:+0100
DTSTART:20231029T010000
TZNAME:CET
END:STANDARD
END:VTIMEZONE
END:VCALENDAR
